BEGIN:VCALENDAR
VERSION:2.0
PRODID:-//ChamberMaster//Event Calendar 2.0//EN
METHOD:PUBLISH
X-PUBLISHED-TTL:P3D
REFRESH-INTERVAL:P3D
CALSCALE:GREGORIAN
BEGIN:VEVENT
DTSTART:20190217T220000Z
DTEND:20190218T000000Z
X-MICROSOFT-CDO-ALLDAYEVENT:FALSE
SUMMARY:13th Annual Daddy-Daughter Sweetheart Dance
DESCRIPTION:Escort your princess to a special evening full of smiles\, dancing and fun at the 13th Annual Daddy-Daughter Sweetheart Dance Sunday\, February 17 from 5-7pm. Dads and daughters ages 3-12 will enjoy dancing\, refreshments\, souvenir photos and great music! A photographer will be there to take pictures from 4-6pm at the Fretterd Community Center. Dance is $35 per couple and $5 for each additional daughter. Deadline to register is February 8.
X-ALT-DESC;FMTTYPE=text/html:Escort your princess to a special evening full of smiles\, dancing and fun at the 13th Annual Daddy-Daughter Sweetheart Dance Sunday\, February 17 from 5-7pm. Dads and daughters ages 3-12 will enjoy dancing\, refreshments\, souvenir photos and great music! A photographer will be there to take pictures from 4-6pm at the Fretterd Community Center. Dance is $35 per couple and $5 for each additional daughter. Deadline to register is February 8.
LOCATION:Fretterd Community Center 107 S 4th St\, Denton\, MD 21629
UID:e.1366.2070
SEQUENCE:3
DTSTAMP:20260424T124211Z
URL:https://business.carolinechamber.org/events/details/13th-annual-daddy-daughter-sweetheart-dance-2070
END:VEVENT

END:VCALENDAR
