BEGIN:VCALENDAR
VERSION:2.0
PRODID:-//ChamberMaster//Event Calendar 2.0//EN
METHOD:PUBLISH
X-PUBLISHED-TTL:P3D
REFRESH-INTERVAL:P3D
CALSCALE:GREGORIAN
BEGIN:VEVENT
DTSTART:20170515T130000Z
DTEND:20170515T160000Z
X-MICROSOFT-CDO-ALLDAYEVENT:FALSE
SUMMARY:14th Annual Greater Greensboro Golf Outing
DESCRIPTION:Are you thinking GOLF? \n\nThink May 15\, for the 14th Annual Greater Greensboro Open\, golf outing! \n\n\n\n9am Registration\n\n10am Shot Gun Start\n\nAwards Luncheon \n\n    -Hole-in-one award\n\n    -Team Gross\n\n    -Team Net\n\n    -And more! \n\nPutting Contest: Week at the beach!\n\n\n\nThere are FOUR ways to participate!\n\n1- As a player: Register to play! \n\n2-As a Hole sponsor : Sponsor a hole during our event.\n\n3- As a promoter : sharing our event and encouraging friends\, family and colleagues to participate.\n\n4- Donate : As a business or individual with any promotional items to donate for a gift/award to the players. gpnash1@gmail.com or tomriddleberger@gmail.com
X-ALT-DESC;FMTTYPE=text/html:Are you thinking GOLF?&nbsp\;<br />\nThink May 15\, for the 14th Annual Greater Greensboro&nbsp\;Open\, golf outing!&nbsp\;<br />\n<br />\n9am Registration<br />\n10am Shot Gun Start<br />\nAwards Luncheon&nbsp\;<br />\n&nbsp\; &nbsp\; -Hole-in-one award<br />\n&nbsp\; &nbsp\; -Team Gross<br />\n&nbsp\; &nbsp\; -Team Net<br />\n&nbsp\; &nbsp\; -And more!&nbsp\;<br />\nPutting Contest: Week at the beach!<br />\n<br />\nThere are FOUR ways to participate!<br />\n1- As a player: Register to play!&nbsp\;<br />\n2-As a Hole sponsor : Sponsor a hole during our event.<br />\n3- As a promoter : sharing our event and encouraging friends\, family and colleagues to participate.<br />\n4- Donate : As a business or individual with any promotional items to donate for a gift/award to the players. gpnash1@gmail.com or tomriddleberger@gmail.com
LOCATION:Maple Dale Country Club\, Dover\, De.
UID:e.1366.667
SEQUENCE:3
DTSTAMP:20260425T184804Z
URL:https://business.carolinechamber.org/events/details/14th-annual-greater-greensboro-golf-outing-667
END:VEVENT

END:VCALENDAR
