BEGIN:VCALENDAR
VERSION:2.0
PRODID:-//ChamberMaster//Event Calendar 2.0//EN
METHOD:PUBLISH
X-PUBLISHED-TTL:P3D
REFRESH-INTERVAL:P3D
CALSCALE:GREGORIAN
BEGIN:VEVENT
DTSTART:20170126T223000Z
DTEND:20170127T013000Z
X-MICROSOFT-CDO-ALLDAYEVENT:FALSE
SUMMARY:2017 Annual Meeting and Awards Banquet
DESCRIPTION:Join us at the Preston Volunteer Fire Department Hall as we celebrate the Chamber 2016 Award Winners and introduce the newly elected Board Directors.\n\n\n\nYou will also have a chance to participate in our Silent Auction to raise money for the Chamber Scholarship fund for a graduating senior from Caroline County.
X-ALT-DESC;FMTTYPE=text/html:Join us at the Preston Volunteer Fire Department Hall as we celebrate the Chamber 2016 Award Winners and introduce the newly elected Board Directors.<br />\n<br />\nYou will also have a chance to participate&nbsp\;in our Silent Auction to raise money for the Chamber Scholarship fund for a graduating senior from Caroline County.
LOCATION:Preston VFD Hall 3680 Choptank Road Preston\, MD
UID:e.1366.641
SEQUENCE:3
DTSTAMP:20260425T230646Z
URL:https://business.carolinechamber.org/events/details/2017-annual-meeting-and-awards-banquet-641
END:VEVENT

END:VCALENDAR
