BEGIN:VCALENDAR
VERSION:2.0
PRODID:-//ChamberMaster//Event Calendar 2.0//EN
METHOD:PUBLISH
X-PUBLISHED-TTL:P3D
REFRESH-INTERVAL:P3D
CALSCALE:GREGORIAN
BEGIN:VEVENT
DTSTART:20190118T223000Z
DTEND:20190119T000000Z
X-MICROSOFT-CDO-ALLDAYEVENT:FALSE
SUMMARY:2019 AMP Kick Off Night
DESCRIPTION:2019 AMP Kick Off Night Friday\, January 18th at Tanglewood Conservatories. Tanglewood hosts this event every year to kick off the new year of AMP and is an opportunity for the community\, local businesses\, and students and parents to learn more about AMP and register for the program.
X-ALT-DESC;FMTTYPE=text/html:<span style="font-size:14.0pt\;">2019 AMP Kick Off Night Friday\, January 18<sup>th</sup> at Tanglewood Conservatories. Tanglewood hosts this event every year to kick off the new year of AMP and is an opportunity for the community\, local businesses\, and students and parents to learn more about AMP and register for the program. </span>
LOCATION:Tanglewood Conservatories 15 Engerman Ave. Denton\, MD 21629
UID:e.1366.2066
SEQUENCE:3
DTSTAMP:20260424T123927Z
URL:https://business.carolinechamber.org/events/details/2019-amp-kick-off-night-2066
END:VEVENT

END:VCALENDAR
