BEGIN:VCALENDAR
VERSION:2.0
PRODID:-//ChamberMaster//Event Calendar 2.0//EN
METHOD:PUBLISH
X-PUBLISHED-TTL:P3D
REFRESH-INTERVAL:P3D
CALSCALE:GREGORIAN
BEGIN:VEVENT
DTSTART:20190322T123000Z
DTEND:20190322T190000Z
X-MICROSOFT-CDO-ALLDAYEVENT:FALSE
SUMMARY:2019 Primer for Economic Development in Maryland
DESCRIPTION:Join MEDA for a one-day training that has been created to provide participants an introduction and overview of how Maryland practices economic development. Course attendees will quickly develop a network of resources and link people and faces\, all while building camaraderie among participants to further Maryland's economic development team. This course is designed for those who are new to economic development in Maryland\, in addition to strategic partners in collaborative industries. Find out how economic development transforms lives by creating opportunities\, inspiring innovation\, and enriching communities. Together we can work to make a brighter\, more prosperous future for the state of Maryland!
X-ALT-DESC;FMTTYPE=text/html:Join MEDA for a one-day training that has been created to provide participants an introduction and overview of how Maryland practices economic development. Course attendees will quickly develop a network of resources and link people and faces\, all while building camaraderie among participants to further Maryland&rsquo\;s economic development team. This course is designed for those who are new to economic development in Maryland\, in addition to strategic partners in collaborative industries. Find out how economic development transforms lives by creating opportunities\, inspiring innovation\, and enriching communities. Together we can work to make a brighter\, more prosperous future for the state of Maryland!
LOCATION:Loyola University Maryland-Columbia Graduate Center 8890 McGaw Road\, Columbia\, MD
UID:e.1366.2254
SEQUENCE:3
DTSTAMP:20260424T101130Z
URL:https://business.carolinechamber.org/events/details/2019-primer-for-economic-development-in-maryland-2254
END:VEVENT

END:VCALENDAR
