BEGIN:VCALENDAR
VERSION:2.0
PRODID:-//ChamberMaster//Event Calendar 2.0//EN
METHOD:PUBLISH
X-PUBLISHED-TTL:P3D
REFRESH-INTERVAL:P3D
CALSCALE:GREGORIAN
BEGIN:VEVENT
DTSTART:20220528T190000Z
DTEND:20220529T000000Z
X-MICROSOFT-CDO-ALLDAYEVENT:FALSE
SUMMARY:2nd Caroline County Pride Festival
DESCRIPTION:This is a free event for the community that will include community resources\, information\, food\, live music\, performances\, games and vendors. The purpose of this event is to celebrate diversity in an environment of inclusion\, respect and family entertainment. With this event we want to raise awareness and educate our community on these three topics: diversity\, inclusion and respect towards all residents of our county\, especially the LGBTQ community. A community where there are no labels\, where each person respects their neighbor regardless of their sexual preference\, will be a strong\, united and thriving community.
X-ALT-DESC;FMTTYPE=text/html:This is a free event for the community that will include community resources\, information\, food\, live music\, performances\, games and vendors. The purpose of this event is to celebrate diversity in an environment of inclusion\, respect and family entertainment. With this event we want to raise awareness and educate our community on these three topics: diversity\, inclusion and respect towards all residents of our county\, especially the LGBTQ community. A community where there are no labels\, where each person respects their neighbor regardless of their sexual preference\, will be a strong\, united and thriving community.
LOCATION:Downtown Denton
UID:e.1366.3924
SEQUENCE:3
DTSTAMP:20260420T014702Z
URL:https://business.carolinechamber.org/events/details/2nd-caroline-county-pride-festival-05-28-2022-3924
END:VEVENT

END:VCALENDAR
