BEGIN:VCALENDAR
VERSION:2.0
PRODID:-//ChamberMaster//Event Calendar 2.0//EN
METHOD:PUBLISH
X-PUBLISHED-TTL:P3D
REFRESH-INTERVAL:P3D
CALSCALE:GREGORIAN
BEGIN:VEVENT
DTSTART:20191123T130000Z
DTEND:20191123T163000Z
X-MICROSOFT-CDO-ALLDAYEVENT:FALSE
SUMMARY:33rd Annual Turkey Trot
DESCRIPTION:Join us November 23 rain or shine for our 34th Annual Turkey Trot fun run\, walk\, or jog!  This event is a 2-mile walk\, run\, or jog for all ages from Denton Elementary School to Martinak State Park and back\, includes free gifts to the first 100 registrants\, and everyone is entered in the free turkey raffle.  Registration check-in begins at 8 a.m. and the race begins at 9:00 a.m.  Other events include Turkey Dinner Relay\, games\, crafts\, and refreshments.  Flyers are available on our website and our office.   For more information\, call Recreation & Parks at 410-479-8120.
X-ALT-DESC;FMTTYPE=text/html:<span style="font-family:times new roman"><span style="font-size:10pt">Join us November 23 rain or shine for our 34<sup>th</sup> Annual </span><strong><span style="font-size:10pt">Turkey Trot</span></strong><span style="font-size:10pt"> fun run\, walk\, or jog!&nbsp\; This event is a 2-mile walk\, run\, or jog for all ages from Denton Elementary School to Martinak State Park and back\, includes free gifts to the first 100 registrants\, and everyone is entered in the free turkey raffle.&nbsp\; Registration check-in begins at 8 a.m. and the race begins at 9:00 a.m.&nbsp\; Other events include Turkey Dinner Relay\, games\, crafts\, and refreshments.&nbsp\; Flyers are available on our website and our office.&nbsp\;&nbsp\; </span><span style="font-size:10pt">For more information\, call Recreation &amp\; Parks at 410-479-8120.</span></span><br />\n&nbsp\;
LOCATION:Denton Elementary School 303 Sharp Road Denton\, MD 21629
UID:e.1366.3544
SEQUENCE:3
DTSTAMP:20260423T233711Z
URL:https://business.carolinechamber.org/events/details/33rd-annual-turkey-trot-11-23-2019-3544
END:VEVENT

END:VCALENDAR
