BEGIN:VCALENDAR
VERSION:2.0
PRODID:-//ChamberMaster//Event Calendar 2.0//EN
METHOD:PUBLISH
X-PUBLISHED-TTL:P3D
REFRESH-INTERVAL:P3D
CALSCALE:GREGORIAN
BEGIN:VEVENT
DTSTART:20181209T210000Z
DTEND:20181209T230000Z
X-MICROSOFT-CDO-ALLDAYEVENT:FALSE
SUMMARY:5th Annual Santa Chase
DESCRIPTION:This 4th Annual Santa Chase is a 2- Mile Walk\, Run\, or Jog with holiday magic! Candle luminaries and Christmas lights mark the park-based trail. Special family of 4 discounts\, dog friendly walk or run\, and a costume challenge judged by Santa himself (dog reindeers included)! Chase is Sunday\, December 10. Registration is 3:30   4:30 p.m. and the race starts at 4:45 p.m. at Martinak State Park. Produced in partnership with Lions International Clubs from the Mid-Shore. Proceeds benefit Lion's Club Vision Charities.\n\n$15 per person if paid by Dec 5\n\n$20 per person if paid after December 5        \n\n$50 for group of 4 if paid in advance\n\n$20 if running with a dog
X-ALT-DESC;FMTTYPE=text/html:<span style="font-size:10pt"><span style="font-family:times new roman">This 4<sup>th</sup> Annual Santa Chase is a 2- Mile Walk\, Run\, or Jog with holiday magic! Candle luminaries and Christmas lights mark the park-based trail. Special family of 4 discounts\, dog friendly walk or run\, and a costume challenge judged by Santa himself (dog reindeers included)! Chase is Sunday\, December 10. Registration is 3:30 &ndash\; 4:30 p.m. and the race starts at 4:45 p.m. at Martinak State Park. Produced in partnership with Lions International Clubs from the Mid-Shore. Proceeds benefit Lion&rsquo\;s Club Vision Charities.</span></span><br />\n<span style="font-size:10pt"><span style="font-family:times new roman">$15 per person if paid by Dec 5</span></span><br />\n<span style="font-size:10pt"><span style="font-family:times new roman">$20 per person if paid after December 5&nbsp\;&nbsp\;&nbsp\;&nbsp\;&nbsp\;&nbsp\;&nbsp\; </span></span><br />\n<span style="font-size:10pt"><span style="font-family:times new roman">$50 for group of 4 if paid in advance</span></span><br />\n<span style="font-size:10pt"><span style="font-family:times new roman">$20 if running with a dog </span></span><br />\n<br />\n<br />\n&nbsp\;
LOCATION:Martinak State Park Nature Center
UID:e.1366.2042
SEQUENCE:3
DTSTAMP:20260424T135757Z
URL:https://business.carolinechamber.org/events/details/5th-annual-santa-chase-2042
END:VEVENT

END:VCALENDAR
