BEGIN:VCALENDAR
VERSION:2.0
PRODID:-//ChamberMaster//Event Calendar 2.0//EN
METHOD:PUBLISH
X-PUBLISHED-TTL:P3D
REFRESH-INTERVAL:P3D
CALSCALE:GREGORIAN
BEGIN:VEVENT
DTSTART:20201030T161500Z
DTEND:20201030T170000Z
X-MICROSOFT-CDO-ALLDAYEVENT:FALSE
SUMMARY:Adult Children of Substance Users – MCF Virtual Workshop Series
DESCRIPTION:Maryland Coalition of Families is offering a free two-part virtual lunch and learn workshop series for adult children with parents who have substance use disorders. Part 1: An Overview Thursday\, October 29th 12:15 PM   1:00 PM Get an overview of the data and behavioral traits associated with adult children who grew up in households with substance use issues. Part 2: Tools & Resources Friday\, October 30th 12:15 PM   1:00 PM Explore tools\, resources\, and support systems that can help individuals raised by parents with substance use disorders. All registrants will be eligible for a free and confidential 15-minute consultation with MCF Family Peer Support Specialist. Please share this information with anyone who could benefit from these free workshops. To register\, visit: www.MCF-AdultChild.eventbrite.com For more information\, please contact Julie Slivka 443-878-5679 or e-mail JSlivka@mdcoalition.org
X-ALT-DESC;FMTTYPE=text/html:Maryland Coalition of Families is offering a free two-part virtual lunch and learn workshop series for adult children with parents who have substance use disorders. Part 1: An Overview Thursday\, October 29th 12:15 PM &ndash\; 1:00 PM Get an overview of the data and behavioral traits associated with adult children who grew up in households with substance use issues. Part 2: Tools &amp\; Resources Friday\, October 30th 12:15 PM &ndash\; 1:00 PM Explore tools\, resources\, and support systems that can help individuals raised by parents with substance use disorders. All registrants will be eligible for a free and confidential 15-minute consultation with MCF Family Peer Support Specialist. Please share this information with anyone who could benefit from these free workshops. To register\, visit: www.MCF-AdultChild.eventbrite.com For more information\, please contact Julie Slivka 443-878-5679 or e-mail JSlivka@mdcoalition.org
LOCATION:Virtual
UID:e.1366.3698
SEQUENCE:3
DTSTAMP:20260421T065746Z
URL:https://business.carolinechamber.org/events/details/adult-children-of-substance-users-mcf-virtual-workshop-series-10-30-2020-3698
END:VEVENT

END:VCALENDAR
