BEGIN:VCALENDAR
VERSION:2.0
PRODID:-//ChamberMaster//Event Calendar 2.0//EN
METHOD:PUBLISH
X-PUBLISHED-TTL:P3D
REFRESH-INTERVAL:P3D
CALSCALE:GREGORIAN
BEGIN:VEVENT
DTSTART:20171012T210000Z
DTEND:20171012T230000Z
X-MICROSOFT-CDO-ALLDAYEVENT:FALSE
SUMMARY:After-Hours Mixer hosted by Caroline Professionals Network
DESCRIPTION:This monthly after hours event is an informal opportunity to get better acquainted with the business members and enterprising professionals in our county. This event is open to all ages and professions and Chamber members and non-members are encouraged to attend.
X-ALT-DESC;FMTTYPE=text/html:<span style="font-size:14px\;"><span style="font-family:tahoma\;"><span style="color: rgb(0\, 0\, 0)\;">This monthly after hours event is an informal opportunity to get better acquainted&nbsp\;with&nbsp\;the business members and&nbsp\;enterprising professionals in our county. This event is open to all ages and professions and Chamber members and non-members are encouraged to attend.</span></span></span>
LOCATION:Harry's on the Green 4 First Street Denton\, MD
UID:e.1366.678
SEQUENCE:3
DTSTAMP:20260425T102936Z
URL:https://business.carolinechamber.org/events/details/after-hours-mixer-hosted-by-caroline-professionals-network-678
END:VEVENT

END:VCALENDAR
