BEGIN:VCALENDAR
VERSION:2.0
PRODID:-//ChamberMaster//Event Calendar 2.0//EN
METHOD:PUBLISH
X-PUBLISHED-TTL:P3D
REFRESH-INTERVAL:P3D
CALSCALE:GREGORIAN
BEGIN:VEVENT
DTSTART:20161013T210000Z
DTEND:20161013T230000Z
X-MICROSOFT-CDO-ALLDAYEVENT:FALSE
SUMMARY:After Hours Networking - Hosted by the Caroline Young Professionals
DESCRIPTION:This monthly after hours event is an informal opportunity to get better acquainted with the business members and enterprising young professionals in our county. This event is open to all and all Chamber members are encouraged to attend.
X-ALT-DESC;FMTTYPE=text/html:This monthly after hours event is an informal opportunity to get better acquainted&nbsp\;with&nbsp\;the business members and&nbsp\;enterprising young professionals in our county. This event is open to <strong><u>all</u></strong>&nbsp\;and all Chamber members are encouraged to attend.
LOCATION:Harry's on the Green 4 South First Street Denton Maryland
UID:e.1366.623
SEQUENCE:3
DTSTAMP:20260426T032942Z
URL:https://business.carolinechamber.org/events/details/after-hours-networking-hosted-by-the-caroline-young-professionals-623
END:VEVENT

END:VCALENDAR
