BEGIN:VCALENDAR
VERSION:2.0
PRODID:-//ChamberMaster//Event Calendar 2.0//EN
METHOD:PUBLISH
X-PUBLISHED-TTL:P3D
REFRESH-INTERVAL:P3D
CALSCALE:GREGORIAN
BEGIN:VEVENT
DTSTART:20210326T123000Z
DTEND:20210326T150000Z
X-MICROSOFT-CDO-ALLDAYEVENT:FALSE
SUMMARY:Are you the Leader of the pack? Get your Backstage Pass and join other Leaders.
DESCRIPTION:Join us to discover how Chesapeake Think Tank's Private Advisory\n\nBoards support Small Business Owners to grow their business strategically.\n\n\n\n\n\n\nAbout this Event\n\n\n\nChesapeake Think Tank's Private Advisory Board Back Stage Pass\n\nHow is your perspective and strategy different from the rest of the pack?\n\nAre you the leader of a pack? Join other local business owners (pack leaders) and\n\nlearn how the Chesapeake Think Tank's Private Advisory Boards are a powerful\n\nresource and provide a confidential\, supportive and interactive space for small\n\nbusiness owners to work on their business\, not just in their business.\n\nJoin professional facilitator\, Patrick Lee Jr. and members of the Chesapeake\n\nThink Tank\, as we discuss the benefits of our Private Advisory Boards and how to\n\nbecome a member.
X-ALT-DESC;FMTTYPE=text/html:<div background-color:="" class="g-group l-lg-mar-bot-6 l-md-mar-bot-4  " helvetica="" neue="" style="margin: 0px 0px 30px\; padding: 0px\; font-size: 0px\; letter-spacing: 0px\; color: rgb(57\, 54\, 79)\; font-family: ">\n<div class="g-cell g-cell-10-12 g-cell-md-1-1" style="margin: 0px\; padding: 0px 15px\; width: 560px\; box-sizing: border-box\; display: inline-block\; overflow: hidden\; vertical-align: top\; letter-spacing: 0.5px\; font-size: 0.933333rem\; line-height: 1.25rem\;">\n<div class="has-user-generated-content" style="margin: 0px\; padding: 0px\;">\n<div class="text-body-medium" data-automation="listing-event-description" style="margin: 0px\; padding: 0px\; font-size: 0.933333rem\; line-height: 1.25rem\;"><span style="font-size:12px\;"><span style="font-family:times new roman\;"><span style="font-weight: 700\; padding-top: 0px\;">Join us to discover how Chesapeake Think Tank&#39\;s Private Advisory<br />\nBoards support Small Business Owners to grow their business strategically.</span></span></span></div>\n</div>\n</div>\n</div>\n\n<div background-color:="" class="g-group l-mar-bot-6 l-sm-mar-bot-4" helvetica="" neue="" style="margin: 0px 0px 30px\; padding: 0px\; font-size: 0px\; letter-spacing: 0px\; color: rgb(57\, 54\, 79)\; font-family: ">\n<div class="structured-content g-cell g-cell-10-12 g-cell-md-1-1" style="margin: 0px\; padding: 0px 15px\; width: 560px\; box-sizing: border-box\; display: inline-block\; overflow: hidden\; vertical-align: top\; letter-spacing: 0.5px\; font-size: 0.933333rem\; line-height: 1.25rem\;">\n<h2 class="text-body-large hide-small" style="margin: 0px -0.25px 0px 0px\; padding: 0px\; font-size: 1.2rem\; line-height: 1.5rem\; letter-spacing: 0.25px\;"><span style="font-size:12px\;"><span style="font-family:times new roman\;">About this Event</span></span></h2>\n\n<div class="has-user-generated-content" data-automation="about-this-event-sc" style="margin: 0px\; padding: 0px\;">\n<div class="structured-content-rich-text structured-content__module l-align-left l-mar-vert-6 l-sm-mar-vert-4 text-body-medium" style="margin: 30px 0px\; padding: 0px\; font-size: 0.933333rem\; line-height: 1.25rem\; text-rendering: optimizelegibility\;">\n<h1 style="margin: 0px\; padding: 0px\; font-size: 32px\; line-height: 2.5rem\; letter-spacing: 0.75px\;"><span style="font-size:12px\;"><span style="font-family:times new roman\;">Chesapeake Think Tank&#39\;s Private Advisory Board Back Stage Pass</span></span></h1>\n\n<h3 style="margin: 0px\; padding: 10px 0px 0px\; color: rgb(30\, 10\, 60)\; font-size: 20px\; line-height: 1.75rem\; font-weight: 400\;"><span style="font-size:12px\;"><span style="font-family:times new roman\;">How is your perspective and strategy different from the rest of the pack?<br />\nAre you the leader of a pack? Join other local business owners (pack leaders) and<br />\nlearn how the Chesapeake Think Tank&#39\;s Private Advisory Boards are a powerful<br />\nresource and provide a confidential\, supportive and interactive space for small<br />\nbusiness owners to work on their business\, not just in their business.</span></span></h3>\n\n<h3 style="margin: 0px\; padding: 10px 0px 0px\; color: rgb(30\, 10\, 60)\; font-size: 20px\; line-height: 1.75rem\; font-weight: 400\;"><span style="font-size:12px\;"><span style="font-family:times new roman\;">Join professional facilitator\, Patrick Lee Jr. and members of the Chesapeake<br />\nThink Tank\, as we discuss the benefits of our Private Advisory Boards and how to<br />\nbecome a member.</span></span></h3>\n</div>\n</div>\n</div>\n</div>\n
LOCATION:Register here https://bit.ly/PAB-Caroline
UID:e.1366.3730
SEQUENCE:3
DTSTAMP:20260420T225347Z
URL:https://business.carolinechamber.org/events/details/are-you-the-leader-of-the-pack-get-your-backstage-pass-and-join-other-leaders-3730
END:VEVENT

END:VCALENDAR
