BEGIN:VCALENDAR
VERSION:2.0
PRODID:-//ChamberMaster//Event Calendar 2.0//EN
METHOD:PUBLISH
X-PUBLISHED-TTL:P3D
REFRESH-INTERVAL:P3D
CALSCALE:GREGORIAN
BEGIN:VEVENT
DTSTART;VALUE=DATE:20190222
DTEND;VALUE=DATE:20190223
TRANSP:TRANSPARENT
X-MICROSOFT-CDO-ALLDAYEVENT:TRUE
SUMMARY:Bay Area Fruit School
DESCRIPTION:The University of Maryland Extension and College of Agriculture & Natural Resources will host an all-day workshop discussing recent research in fruit tree planting and management on Friday\, February 22nd at the Wye Research and Education center\, 124 Wye Narrows Drive in Queenstown.\n\nPresentations will focus on:\n\n\n	Why Herbicides Fail\n	Soil-borne Diseases in Fruit Orchards\n	Drivers of Honey Bee Losses\n	Late Season Fruit Rot Control in Grapes\n	Tree Fruit Disease Management in a Very Wet Year\n	Performance of Late-planted Day-neutral Strawberries in Low-tunnels\n	Basics of Strawberry Disease Management\n	and more...
X-ALT-DESC;FMTTYPE=text/html:<p style="margin: 0px 0px 1em\; padding: 0px\; max-width: 50em\; color: rgb(52\, 52\, 52)\; font-family: Verdana\, sans-serif\; font-size: 12px\; background-color: rgb(255\, 255\, 255)\;">The University of Maryland Extension and College of Agriculture &amp\; Natural Resources will host an all-day workshop discussing recent research in fruit tree planting and management on Friday\, February 22nd at the Wye Research and Education center\, 124 Wye Narrows Drive in Queenstown.</p>\n\n<p style="margin: 0px 0px 1em\; padding: 0px\; max-width: 50em\; color: rgb(52\, 52\, 52)\; font-family: Verdana\, sans-serif\; font-size: 12px\; background-color: rgb(255\, 255\, 255)\;"><strong>Presentations will focus on:</strong></p>\n\n<ul style="margin-bottom: 1em\; max-width: 46.5em\; color: rgb(52\, 52\, 52)\; font-family: Verdana\, sans-serif\; font-size: 12px\; background-color: rgb(255\, 255\, 255)\;">\n	<li>Why Herbicides Fail</li>\n	<li>Soil-borne Diseases in Fruit Orchards</li>\n	<li>Drivers of Honey Bee Losses</li>\n	<li>Late Season Fruit Rot Control in Grapes</li>\n	<li>Tree Fruit Disease Management in a Very Wet Year</li>\n	<li>Performance of Late-planted Day-neutral Strawberries in Low-tunnels</li>\n	<li>Basics of Strawberry Disease Management</li>\n	<li>and more...</li>\n</ul>\n
LOCATION:Address: Wye Research & Education Center 124 Wye Narrows Drive Queenstown\, MD 21658 United States Event Type: Class/Workshop Lecture/Seminar Presenter: Mike Newell
UID:e.1366.2075
SEQUENCE:3
DTSTAMP:20260424T123808Z
URL:https://business.carolinechamber.org/events/details/bay-area-fruit-school-2075
END:VEVENT

END:VCALENDAR
