BEGIN:VCALENDAR
VERSION:2.0
PRODID:-//ChamberMaster//Event Calendar 2.0//EN
METHOD:PUBLISH
X-PUBLISHED-TTL:P3D
REFRESH-INTERVAL:P3D
CALSCALE:GREGORIAN
BEGIN:VEVENT
DTSTART:20250718T220000Z
DTEND:20250719T010000Z
X-MICROSOFT-CDO-ALLDAYEVENT:FALSE
SUMMARY:Burgers and Blues
DESCRIPTION:Who's ready to celebrate Summer? Burgers & Blues is just around the corner\, Get your tickets today and join the best Summer party! ???? 21+ All You Can Eat\, All You Can Drink! Live Performance by: Jeff Washington
X-ALT-DESC;FMTTYPE=text/html:Who&#39\;s ready to celebrate Summer? Burgers &amp\; Blues is just around the corner\, Get your tickets today and join the best Summer party! ???? 21+ All You Can Eat\, All You Can Drink! Live Performance by: Jeff Washington
LOCATION:Chesapeake Culinary Center 512 Franklin St Denton MD
UID:e.1366.4373
SEQUENCE:3
DTSTAMP:20260419T133749Z
URL:https://business.carolinechamber.org/events/details/burgers-and-blues-4373
END:VEVENT

END:VCALENDAR
