BEGIN:VCALENDAR
VERSION:2.0
PRODID:-//ChamberMaster//Event Calendar 2.0//EN
METHOD:PUBLISH
X-PUBLISHED-TTL:P3D
REFRESH-INTERVAL:P3D
CALSCALE:GREGORIAN
BEGIN:VEVENT
DTSTART:20210506T190000Z
DTEND:20210506T230000Z
X-MICROSOFT-CDO-ALLDAYEVENT:FALSE
SUMMARY:Burris Logistics Hiring Fair
DESCRIPTION:BURRIS LOGISTICS IS HOSTING A HIRING FAIR! \n Thursday May 6\, 2021 from 3pm-7pm \n\n \n\nWe are hiring for our E-Fulfillment Warehouse Team\n\nDay and Night shift available. $15.00 per hour \n\n3946 Federalsburg Hwy\, Federalsburg\, MD\n\n www.burrisjobs.com
X-ALT-DESC;FMTTYPE=text/html:BURRIS LOGISTICS IS HOSTING A HIRING FAIR!&nbsp\;\n<div>&nbsp\;Thursday May 6\, 2021 from 3pm-7pm&nbsp\;</div>\n\n<div>&nbsp\;</div>\n\n<div>We are hiring for our E-Fulfillment Warehouse Team<br />\nDay and Night shift available. $15.00 per hour&nbsp\;</div>\n\n<div>3946 Federalsburg Hwy\, Federalsburg\, MD</div>\n\n<div>&nbsp\;<strong>www.burrisjobs.com</strong></div>\n
LOCATION:
UID:e.1366.3741
SEQUENCE:3
DTSTAMP:20260420T210200Z
URL:https://business.carolinechamber.org/events/details/burris-logistics-hiring-fair-3741
END:VEVENT

END:VCALENDAR
