BEGIN:VCALENDAR
VERSION:2.0
PRODID:-//ChamberMaster//Event Calendar 2.0//EN
METHOD:PUBLISH
X-PUBLISHED-TTL:P3D
REFRESH-INTERVAL:P3D
CALSCALE:GREGORIAN
BEGIN:VEVENT
DTSTART:20190319T200000Z
DTEND:20190319T220000Z
X-MICROSOFT-CDO-ALLDAYEVENT:FALSE
SUMMARY:Caroline County Grief Support Group
DESCRIPTION:This eight-week grief support group runs every Tuesday\, from March 12 through April 30. Guests are encouraged to attend the entire series to benefit the most from the group. Open to anyone 18 and older who is suffering the loss of a loved one. Cost: $25\, but no one will be turned away due to an inability to pay. Info: 443-262-4108 or wlarrimore@compassregionalhospice.org.
X-ALT-DESC;FMTTYPE=text/html:<span style="font-family: Calibri\, sans-serif\; font-size: 14.6667px\; background-color: rgb(255\, 255\, 255)\;">This eight-week grief support group runs every Tuesday\, from March 12 through April 30. Guests are encouraged to attend the entire series to benefit the most from the group. Open to anyone 18 and older who is suffering the loss of a loved one. Cost: $25\, but no one will be turned away due to an inability to pay. Info: 443-262-4108 or&nbsp\;</span><a _bcc="" _body="" _cc="" _subject="" _to="wlarrimore@compassregionalhospice.org" style="color: rgb(149\, 79\, 114)\; text-decoration-line: underline\; outline: none\; font-family: Calibri\, sans-serif\; font-size: 14.6667px\; background-color: rgb(255\, 255\, 255)\;">wlarrimore@compassregionalhospice.org</a><span style="font-family: Calibri\, sans-serif\; font-size: 14.6667px\; background-color: rgb(255\, 255\, 255)\;">.</span>
LOCATION:St. Luke's United Methodist Church\, 100 S. 5th Ave.\, Denton
UID:e.1366.2102
SEQUENCE:3
DTSTAMP:20260424T112044Z
URL:https://business.carolinechamber.org/events/details/caroline-county-grief-support-group-03-19-2019-2102
END:VEVENT

END:VCALENDAR
