BEGIN:VCALENDAR
VERSION:2.0
PRODID:-//ChamberMaster//Event Calendar 2.0//EN
METHOD:PUBLISH
X-PUBLISHED-TTL:P3D
REFRESH-INTERVAL:P3D
CALSCALE:GREGORIAN
BEGIN:VEVENT
DTSTART:20210612T200000Z
DTEND:20210613T000000Z
X-MICROSOFT-CDO-ALLDAYEVENT:FALSE
SUMMARY:Caroline County Pride Festival
DESCRIPTION:Caroline County will be celebrating Pride Festival on Saturday\, June 12\, 2021 at 4pm. During this event there will be live music\, performances\, vendors\, community resources\, food\, speakers\, bounce house\, face painting. The purpose of this event is to celebrate diversity in an environment of inclusion\, respect and family entertainment. With this event we want to raise awareness and educate our community on these three topics diversity\, inclusion and respect towards all residents of our county\, especially the LGBTQ community. A community where there are no labels\, where each person respects their neighbor regardless of their sexual preference\, will be a strong\, united and thriving community. Having an event in our County where not only diversity is celebrated but at the same time educating about inclusion\, respect and equity for those who are classified as not being normal is an opportunity to show the rest of the world that the Caroline County It is one where there is no discrimination and everyone is welcome.
X-ALT-DESC;FMTTYPE=text/html:Caroline County will be celebrating Pride Festival on Saturday\, June 12\, 2021 at 4pm. During this event there will be live music\, performances\, vendors\, community resources\, food\, speakers\, bounce house\, face painting. The purpose of this event is to celebrate diversity in an environment of inclusion\, respect and family entertainment. With this event we want to raise awareness and educate our community on these three topics diversity\, inclusion and respect towards all residents of our county\, especially the LGBTQ community. A community where there are no labels\, where each person respects their neighbor regardless of their sexual preference\, will be a strong\, united and thriving community. Having an event in our County where not only diversity is celebrated but at the same time educating about inclusion\, respect and equity for those who are classified as not being normal is an opportunity to show the rest of the world that the Caroline County It is one where there is no discrimination and everyone is welcome.
LOCATION:Market st. Denton MD
UID:e.1366.3738
SEQUENCE:3
DTSTAMP:20260420T174133Z
URL:https://business.carolinechamber.org/events/details/caroline-county-pride-festival-3738
END:VEVENT

END:VCALENDAR
