BEGIN:VCALENDAR
VERSION:2.0
PRODID:-//ChamberMaster//Event Calendar 2.0//EN
METHOD:PUBLISH
X-PUBLISHED-TTL:P3D
REFRESH-INTERVAL:P3D
CALSCALE:GREGORIAN
BEGIN:VEVENT
DTSTART:20220409T000000Z
DTEND:20220409T013000Z
X-MICROSOFT-CDO-ALLDAYEVENT:FALSE
SUMMARY:Caroline County Recs & Parks Flashlight Easter Egg Hunt
DESCRIPTION:When the sun goes down\, the fun begins.  This variation of the traditional Easter Egg Hunt will provide fun and excitement for all.  Kids will "hunt" eggs in the dark using only a flashlight and their own night vision.  A small number of special eggs will win additional prizes.  Each participant needs to bring a flashlight (size limited to 2 D batteries) and basket or bag to collect the eggs.  Wear appropriate clothing for the weather. Parent or guardian must attend with their child(ren). Open to ages 3   10.\n\nRain Date 4/15\n\nKids ages 3-4 will hunt at 8:15 p.m.\, ages 5-10 will hunt at 8:30 p.m. at the Greensboro Carnival Grounds. Cost is $5.\n\nClick Here
X-ALT-DESC;FMTTYPE=text/html:<span style="font-family:times new roman\,serif\;"><span style="font-size:14pt\;">When the sun goes down\, the fun begins.&nbsp\; This variation of the traditional Easter Egg Hunt will provide fun and excitement for all.&nbsp\; Kids will &ldquo\;hunt&rdquo\; eggs in the dark using only a flashlight and their own night vision.&nbsp\; A small number of special eggs will win additional prizes.&nbsp\; Each participant needs to bring a flashlight (size limited to 2 D batteries) and basket or bag to collect the eggs.&nbsp\; Wear appropriate clothing for the weather. Parent or guardian must attend with their child(ren). Open to ages 3 &ndash\; 10.</span></span><br />\n<span style="font-family:times new roman\,serif\;"><span style="font-size:14pt\;">Rain Date 4/15</span></span><br />\n<span style="font-family:times new roman\,serif\;"><span style="font-size:14pt\;">Kids ages 3-4 will hunt at 8:15 p.m.\, ages 5-10 will hunt at 8:30 p.m. at the Greensboro Carnival Grounds. Cost is $5.</span></span><br />\n<a href="https://chambermaster.blob.core.windows.net/userfiles/UserFiles/chambers/1366/File/egghunt2022flyer.pdf" style="font-family: &quot\;times new roman&quot\;\, serif\; font-size: 18.6667px\;">Click Here</a><span style="font-family: &quot\;times new roman&quot\;\, serif\; font-size: 18.6667px\;">&nbsp\;</span>
LOCATION:
UID:e.1366.3930
SEQUENCE:3
DTSTAMP:20260420T043714Z
URL:https://business.carolinechamber.org/events/details/caroline-county-recs-parks-flashlight-easter-egg-hunt-3930
END:VEVENT

END:VCALENDAR
