BEGIN:VCALENDAR
VERSION:2.0
PRODID:-//ChamberMaster//Event Calendar 2.0//EN
METHOD:PUBLISH
X-PUBLISHED-TTL:P3D
REFRESH-INTERVAL:P3D
CALSCALE:GREGORIAN
BEGIN:VEVENT
DTSTART:20220117T144500Z
DTEND:20220117T170000Z
X-MICROSOFT-CDO-ALLDAYEVENT:FALSE
SUMMARY:Celebrate Martin Luther King Jr.
DESCRIPTION:9:45 Meet at LMS March begins at 10:00 AM and concludes at the Caroline County Courthouse. After the march the "I Have A Dream" speech\n\nBag lunch will be distributed to everyone.\n\nQuestions contact Wanda Molock- 410-829-7338 wanderful12001@yahoo.com\n\nor Janet Fountain- 410-829-2844 janetfountian@aol.com\n\n\n\nAll CDC Covid protocols will be followed.
X-ALT-DESC;FMTTYPE=text/html:9:45 Meet at LMS March begins at 10:00 AM and concludes at the Caroline County Courthouse. After the march the &quot\;I Have A Dream&quot\; speech<br />\nBag lunch will be distributed to everyone.<br />\nQuestions contact Wanda Molock- 410-829-7338 wanderful12001@yahoo.com<br />\nor Janet Fountain- 410-829-2844 janetfountian@aol.com<br />\n<br />\nAll CDC Covid protocols will be followed.
LOCATION:
UID:e.1366.3901
SEQUENCE:3
DTSTAMP:20260420T074034Z
URL:https://business.carolinechamber.org/events/details/celebrate-martin-luther-king-jr-3901
END:VEVENT

END:VCALENDAR
