BEGIN:VCALENDAR
VERSION:2.0
PRODID:-//ChamberMaster//Event Calendar 2.0//EN
METHOD:PUBLISH
X-PUBLISHED-TTL:P3D
REFRESH-INTERVAL:P3D
CALSCALE:GREGORIAN
BEGIN:VEVENT
DTSTART:20191022T200000Z
DTEND:20191022T223000Z
X-MICROSOFT-CDO-ALLDAYEVENT:FALSE
SUMMARY:Chamber Open House
DESCRIPTION:Enjoy light fare and networking! Tour The Gardens newest quick delivery home!
X-ALT-DESC;FMTTYPE=text/html:Enjoy light fare and networking! Tour The Gardens newest quick delivery home!
LOCATION:The Gardens 104 Morning Glory Drive\, Denton\, MD 21629
UID:e.1366.2544
SEQUENCE:3
DTSTAMP:20260424T011204Z
URL:https://business.carolinechamber.org/events/details/chamber-open-house-2544
END:VEVENT

END:VCALENDAR
