BEGIN:VCALENDAR
VERSION:2.0
PRODID:-//ChamberMaster//Event Calendar 2.0//EN
METHOD:PUBLISH
X-PUBLISHED-TTL:P3D
REFRESH-INTERVAL:P3D
CALSCALE:GREGORIAN
BEGIN:VEVENT
DTSTART:20190209T000000Z
DTEND:20190209T030000Z
X-MICROSOFT-CDO-ALLDAYEVENT:FALSE
SUMMARY:Chocolat: A Chocolate-Inspired Evening
DESCRIPTION:Indulge your senses at Chocolat\, a decadent evening to benefit the Caroline Culinary Arts Center. Guests will be treated to heavy hors d'oeuvres\, local oysters\, live stations\, chocolate-inspired cocktails\, beer & wine\, sinful desserts\, a s'mores bar and more! Menu highlights include cocoa seared filet\, a macaroni and cheese bar\, shrimp cocktail\, seared scallops\, local cheese and charcuterie! Must be 21 to attend.
X-ALT-DESC;FMTTYPE=text/html:<span style="color: rgb(32\, 32\, 32)\; font-family: Arial\, sans-serif\; font-size: 15.3333px\; background-color: rgb(255\, 255\, 255)\;">Indulge your senses at Chocolat\, a&nbsp\;decadent evening to benefit the Caroline Culinary Arts Center. Guests will be treated to heavy hors d&rsquo\;oeuvres\, local oysters\, live stations\, chocolate-inspired cocktails\, beer &amp\; wine\, sinful desserts\, a s&rsquo\;mores bar and more! Menu highlights include cocoa seared filet\, a macaroni and cheese bar\, shrimp cocktail\, seared scallops\, local cheese and charcuterie! Must be 21 to attend.</span>
LOCATION:512 Franklin Street Denton MD
UID:e.1366.2076
SEQUENCE:3
DTSTAMP:20260424T123904Z
URL:https://business.carolinechamber.org/events/details/chocolat-a-chocolate-inspired-evening-2076
END:VEVENT

END:VCALENDAR
