BEGIN:VCALENDAR
VERSION:2.0
PRODID:-//ChamberMaster//Event Calendar 2.0//EN
METHOD:PUBLISH
X-PUBLISHED-TTL:P3D
REFRESH-INTERVAL:P3D
CALSCALE:GREGORIAN
BEGIN:VEVENT
DTSTART:20200919T150000Z
DTEND:20200919T170000Z
X-MICROSOFT-CDO-ALLDAYEVENT:FALSE
SUMMARY:Choices Pregnancy Grand Reopening/Ribbon Cutting
DESCRIPTION:Join Choices Pregnancy Center for their Grand Reopening/Ribbon Cutting!\n\nEnjoy music\, light refreshments and a tour of the newly renovated facility. Please follow all social distance guidelines. Masks are required.
X-ALT-DESC;FMTTYPE=text/html:Join Choices Pregnancy Center for their Grand Reopening/Ribbon Cutting!<br>\nEnjoy music\, light refreshments and a tour of the newly renovated facility. Please follow all social distance guidelines. Masks are required.
LOCATION:505 Dutchmans Lane B1 Easton\, MD 21601 410-822-3311
UID:e.1366.3689
SEQUENCE:3
DTSTAMP:20260421T082620Z
URL:https://business.carolinechamber.org/events/details/choices-pregnancy-grand-reopening-ribbon-cutting-3689
END:VEVENT

END:VCALENDAR
