BEGIN:VCALENDAR
VERSION:2.0
PRODID:-//ChamberMaster//Event Calendar 2.0//EN
METHOD:PUBLISH
X-PUBLISHED-TTL:P3D
REFRESH-INTERVAL:P3D
CALSCALE:GREGORIAN
BEGIN:VEVENT
DTSTART:20191105T150000Z
DTEND:20191107T210000Z
X-MICROSOFT-CDO-ALLDAYEVENT:FALSE
SUMMARY:Compass Regional Hospice 3 Day Patient Care Volunteer Training
DESCRIPTION:DENTON   Compass Regional Hospice will be offering their three-day November training session in Denton for any individuals interested in becoming a patient care volunteer.\n\n \n\nThe volunteer session is scheduled for 10 a.m. to 4 p.m. Nov. 5\, 6 and 7\, and will take place at the Central Library\, 100 Market Street\, Denton. Registration is required and completing the entire class is necessary for volunteers who wish to provide companionship and support to Compass Regional Hospice's patients and their loved ones in Queen Anne's\, Kent and Caroline counties.\n\n \n\n"Most often\, patient volunteers give companionship to patients by reading\, playing cards\, or just watching television with our patients. They also give caregivers a chance to have a much needed break to tend to other responsibilities." said Robyn Affron\, volunteer manager at Compass Regional Hospice. "Occasionally our patients need some gardening or laundry done\, or a quick errand run. Our volunteers provide the added support that our patients and families need during what can be an overwhelming time."\n\n \n\nTopics taught during the training will include an overview of hospice\, the process of dying\, spiritual care and its place in hospice care\, the stages of grief\, effective communications techniques\, family dynamics\, stress management and self-care for caregivers.\n\n \n\nCompass Regional Hospice relies on more than 300 volunteers of all ages to support its mission\, and these individuals volunteer their time in a variety of ways. In addition to patient care volunteers\, Compass is currently seeking kitchen volunteers\, licensed hair stylists\, and volunteers with special talents like yoga or sewing for projects and events. Whatever your motivation to volunteer\, there is a place for you at Compass Regional Hospice.\n\n \n\nFor more information about becoming a volunteer for Compass Regional Hospice\, contact Robyn Affron at 443-262-4112 or raffron@compassregionalhospice.org.
X-ALT-DESC;FMTTYPE=text/html:<a name="_Hlk522008111" style="color:rgb(0\, 102\, 204)\;outline:none\;">DENTON&nbsp\;</a><span style="background-image:initial\;background-position:initial\;background-size:initial\;background-repeat:initial\;background-attachment:initial\;background-origin:initial\;background-clip:initial\;"><span style="color:#222222\;">&mdash\;</span></span>&nbsp\;Compass Regional Hospice will be offering their three-day November training session in Denton for any individuals interested in becoming a patient care volunteer.<br />\n&nbsp\;<br />\nThe&nbsp\;<a name="_Hlk526769518" style="color:rgb(0\, 102\, 204)\;outline:none\;">volunteer session is scheduled for 10 a.m. to 4 p.m. Nov. 5\, 6 and 7\, and will take place at the Central Library\,</a>&nbsp\;100 Market Street\, Denton. Registration is required and completing the entire class is necessary for volunteers who wish to provide companionship and support to Compass Regional Hospice&rsquo\;s patients and their loved ones in Queen Anne&#39\;s\, Kent and Caroline counties.<br />\n&nbsp\;<br />\n&ldquo\;Most often\, patient volunteers give companionship to patients by reading\, playing cards\, or just watching television with our patients. They also give caregivers a chance to have a much needed break to tend to other responsibilities.&rdquo\; said Robyn Affron\, volunteer manager at Compass Regional Hospice. &ldquo\;Occasionally our patients need some gardening or laundry done\, or a quick errand run.&nbsp\;Our volunteers provide the added support that our patients and families need during what can be an overwhelming time.&rdquo\;<br />\n&nbsp\;<br />\nTopics taught during the training will include an overview of hospice\, the process of dying\, spiritual care and its place in hospice care\, the stages of grief\, effective communications techniques\, family dynamics\, stress management and self-care for caregivers.<br />\n&nbsp\;<br />\nCompass Regional Hospice relies on more than 300 volunteers of all ages to support its mission\, and these individuals volunteer their time in a variety of ways. In addition to patient care volunteers\, Compass is currently seeking kitchen volunteers\, licensed hair stylists\, and volunteers with special talents like yoga or sewing for projects and events. Whatever your motivation to volunteer\, there is a place for you at Compass Regional Hospice.<br />\n&nbsp\;<br />\nFor more information about becoming a volunteer for Compass Regional Hospice\, contact Robyn Affron at 443-262-4112 or&nbsp\;<a _bcc="" _body="" _cc="" _subject="" _to="raffron@compassregionalhospice.org" style="color:rgb(149\, 79\, 114)\;text-decoration-line:underline\;outline:none\;">raffron@compassregionalhospice.org</a>.
LOCATION:Central Library 100 Market Street\, Denton
UID:e.1366.3545
SEQUENCE:3
DTSTAMP:20260423T233618Z
URL:https://business.carolinechamber.org/events/details/compass-regional-hospice-3-day-patient-care-volunteer-training-3545
END:VEVENT

END:VCALENDAR
