BEGIN:VCALENDAR
VERSION:2.0
PRODID:-//ChamberMaster//Event Calendar 2.0//EN
METHOD:PUBLISH
X-PUBLISHED-TTL:P3D
REFRESH-INTERVAL:P3D
CALSCALE:GREGORIAN
BEGIN:VEVENT
DTSTART;VALUE=DATE:20170923
DTEND;VALUE=DATE:20170924
TRANSP:TRANSPARENT
X-MICROSOFT-CDO-ALLDAYEVENT:TRUE
SUMMARY:Compass Regional Hospice Sporting Clay Tournament
DESCRIPTION:Compass Regional Hospice invites sharp shooters of all ages to join them on the course for the first sporting clay tournament scheduled for Saturday\, September 23 at Schrader's Outdoors\, LLC in Henderson. Proceeds of the sporting clay tournament will benefit the capital campaign for Compass Regional Hospice. Individual shooters and teams of four are welcome. The entry fee is $100 for individual shooters\, $75 for junior shooters ages 17 and under\, and $400 for a team of four. On the day of the tournament\, registration begins at 9:00 a.m. All shooters must be on the course by 11:30 a.m. Gun and golf cart rentals are available through Schrader's. Tournament participants will simultaneously move through Schrader's world-class sporting clay course\, utilizing 13-15 stations. In addition to 75 targets\, there will also be several other activities\, including shooting the five stand\, as well as long bird and wacky rabbit competitions. Schrader's has made many changes to their course with 4 trap presentations at each station. The course is tailored to challenge the most expert shooter and still be welcoming to beginners. After play\, participants are invited back to Schrader's club house where they will enjoy refreshments and a catered lunch followed by an awards ceremony. The tournament will follow Lewis Class Scoring. Supporters may also purchase raffle tickets for a chance to win a Stoeger P3000 12/28" Pump Gun donated by Stoeger Industries. Raffle tickets are $10 each. The winning ticket will be drawn at the tournament and the winner need not be present. Must be 18 years or older to enter and all laws for transfer of firearms must be followed.
X-ALT-DESC;FMTTYPE=text/html:Compass Regional Hospice invites sharp shooters of all ages to join them on the course for the first sporting clay tournament scheduled for Saturday\, September 23 at Schrader&#39\;s Outdoors\, LLC in Henderson. Proceeds of the sporting clay tournament will benefit the capital campaign for Compass Regional Hospice. Individual shooters and teams of four are welcome. The entry fee is $100 for individual shooters\, $75 for junior shooters ages 17 and under\, and $400 for a team of four. On the day of the tournament\, registration begins at 9:00 a.m. All shooters must be on the course by 11:30 a.m. Gun and golf cart rentals are available through Schrader&rsquo\;s. Tournament participants will simultaneously move through Schrader&rsquo\;s world-class sporting clay course\, utilizing 13-15 stations. In addition to 75 targets\, there will also be several other activities\, including shooting the five stand\, as well as long bird and wacky rabbit competitions. Schrader&rsquo\;s has made many changes to their course with 4 trap presentations at each station. The course is tailored to challenge the most expert shooter and still be welcoming to beginners. After play\, participants are invited back to Schrader&rsquo\;s club house where they will enjoy refreshments and a catered lunch followed by an awards ceremony. The tournament will follow Lewis Class Scoring. Supporters may also purchase raffle tickets for a chance to win a Stoeger P3000 12/28&rdquo\; Pump Gun donated by Stoeger Industries. Raffle tickets are $10 each. The winning ticket will be drawn at the tournament and the winner need not be present. Must be 18 years or older to enter and all laws for transfer of firearms must be followed.
LOCATION:Schrader's Outdoors 16090 Oakland Road\, Henderson\, MD 21640
UID:e.1366.821
SEQUENCE:3
DTSTAMP:20260425T131720Z
URL:https://business.carolinechamber.org/events/details/compass-regional-hospice-sporting-clay-tournament-821
END:VEVENT

END:VCALENDAR
