BEGIN:VCALENDAR
VERSION:2.0
PRODID:-//ChamberMaster//Event Calendar 2.0//EN
METHOD:PUBLISH
X-PUBLISHED-TTL:P3D
REFRESH-INTERVAL:P3D
CALSCALE:GREGORIAN
BEGIN:VEVENT
DTSTART:20170914T210000Z
DTEND:20170914T230000Z
X-MICROSOFT-CDO-ALLDAYEVENT:FALSE
SUMMARY:CPN After Hours Mixer at Harvest Ridge Winery
DESCRIPTION:Just $10 allows you to enjoy up to eight samples of Harvest Ridge wine\, FREE wineglass\, light apps and a tour of the winery! \n\n\n\nThis after hours event is an informal opportunity to get better acquainted with the business members and enterprising professionals in our county. Caroline Professionals Network events are open to Chamber members and non members. Anyone is welcome to attend.
X-ALT-DESC;FMTTYPE=text/html:<span style="color: rgb(51\, 51\, 51)\; font-family: sans-serif\, Arial\, Verdana\, &quot\;Trebuchet MS&quot\;\; font-size: 13px\; background-color: rgb(255\, 255\, 255)\;">Just $10 allows you to enjoy up to eight samples of Harvest Ridge wine\, FREE wineglass\, light apps and a tour of the winery!&nbsp\;</span><br />\n<br />\n<span style="color: rgb(0\, 0\, 0)\; font-family: Arial\, Helvetica\, &quot\;MS Sans Serif&quot\;\, sans-serif\; font-size: 11px\;">This&nbsp\;after hours event is an informal opportunity to get better acquainted&nbsp\;with&nbsp\;the business members and&nbsp\;enterprising professionals in our county. Caroline Professionals Network events are open to Chamber members and non members. Anyone is welcome to attend.</span>
LOCATION:Harvest Ridge Winery 447 Westville Rd Marydel\, MD
UID:e.1366.677
SEQUENCE:3
DTSTAMP:20260425T114648Z
URL:https://business.carolinechamber.org/events/details/cpn-after-hours-mixer-at-harvest-ridge-winery-677
END:VEVENT

END:VCALENDAR
