BEGIN:VCALENDAR
VERSION:2.0
PRODID:-//ChamberMaster//Event Calendar 2.0//EN
METHOD:PUBLISH
X-PUBLISHED-TTL:P3D
REFRESH-INTERVAL:P3D
CALSCALE:GREGORIAN
BEGIN:VEVENT
DTSTART:20180510T210000Z
DTEND:20180510T230000Z
X-MICROSOFT-CDO-ALLDAYEVENT:FALSE
SUMMARY:CPN After Hours Mixer: Chesapeake Culinary Center
DESCRIPTION:The Caroline Professionals Network is dedicated to bringing together motivated\, ambitious and energetic employees of ALL ages and from ALL sectors of the working world for fun\, social events that help cultivate personal and professional development.\n\n\n\nMay's Mixer will be held at Chesapeake Culinary Center in Denton! \n\n\n\nDoes this sound like you?\n\nBring a friend and come see what the buzz is all about!\n\n\n\nWant to sponsor or host an event like this one? This is a great opportunity to show your business off & what you do! Do you have a niche? We are still looking for short presentations & interesting topics for each event.\n\n\n\nCall us today and get on the schedule\, we're almost full for the year!
X-ALT-DESC;FMTTYPE=text/html:<div style="text-align: center\;"><span style="font-size: 16px\;"><span style="font-family: verdana\;">The Caroline Professionals Network is dedicated to bringing together motivated\, ambitious and energetic employees of ALL ages and from ALL sectors of the working world for fun\, social events that help cultivate personal and professional development.<br />\n<br />\nMay&#39\;s Mixer will be held at Chesapeake Culinary Center in Denton!&nbsp\;</span></span></div>\n\n<div style="text-align: center\;"><br />\n<span style="font-size: 16px\;"><span style="font-family: verdana\;">Does this sound like you?<br />\nBring a friend and come see what the buzz is all about!<br />\n<br />\nWant to sponsor or host an event like this one? This is a great opportunity to show your business off &amp\; what you do! Do you have a niche? We are still looking for short presentations &amp\; interesting topics for each event.<br />\n<br />\nCall us today and get on the schedule\, we&#39\;re almost full for the year!&nbsp\;</span></span></div>\n
LOCATION:Chesapeake Culinary Center 512 Franklin Street Denton\, MD
UID:e.1366.1986
SEQUENCE:3
DTSTAMP:20260424T234558Z
URL:https://business.carolinechamber.org/events/details/cpn-after-hours-mixer-chesapeake-culinary-center-1986
END:VEVENT

END:VCALENDAR
