BEGIN:VCALENDAR
VERSION:2.0
PRODID:-//ChamberMaster//Event Calendar 2.0//EN
METHOD:PUBLISH
X-PUBLISHED-TTL:P3D
REFRESH-INTERVAL:P3D
CALSCALE:GREGORIAN
BEGIN:VEVENT
DTSTART:20180809T210000Z
DTEND:20180809T230000Z
X-MICROSOFT-CDO-ALLDAYEVENT:FALSE
SUMMARY:CPN After Hours Mixer: Turnbridge Point
DESCRIPTION:The Caroline Professionals Network is dedicated to bringing together motivated\, ambitious and energetic employees of ALL ages and from ALL sectors of the working world\, for fun\, social events meant to\n\ncultivate personal and professional development.\n\n\n\nAugust's Mixer will be held on the beautiful grounds of Turnbridge Point. This annual favorite is limited to 35 registrants\, and sells out fast!\n\nBe sure to register early!\n\n\n\n\n\nBring a friend and come see what the buzz is all about!\n\n\n\nWant to sponsor or host an event like this one?\n\nMixers are a great opportunity to introduce yourself and what you do!\n\nCall us today to get on the calendar!
X-ALT-DESC;FMTTYPE=text/html:<span style="text-align: center\; font-size: 16px\;"><span style="font-family: verdana\;">The Caroline Professionals Network is dedicated to bringing together motivated\, ambitious and energetic employees of ALL ages and from ALL sectors of the working world\, for fun\, social events meant to<br />\ncultivate personal and professional development.<br />\n<br />\nAugust&#39\;s Mixer will be held on the beautiful grounds of Turnbridge Point. This annual favorite is limited to 35 registrants\, and sells out fast!<br />\nBe sure to register early!</span></span><br style="text-align: center\;" />\n<br style="text-align: center\;" />\n<br style="text-align: center\;" />\n<span style="text-align: center\; font-size: 16px\;"><span style="font-family: verdana\;">Bring a friend and come see what the buzz is all about!<br />\n<br />\nWant to sponsor or host an event like this one?<br />\nMixers are a great opportunity to introduce yourself and what you do!<br />\nCall us today to get on the calendar!</span></span>
LOCATION:Turnbridge Point 119 Gay Street Denton\, MD
UID:e.1366.688
SEQUENCE:3
DTSTAMP:20260424T192032Z
URL:https://business.carolinechamber.org/events/details/cpn-after-hours-mixer-turnbridge-point-08-09-2018-688
END:VEVENT

END:VCALENDAR
