BEGIN:VCALENDAR
VERSION:2.0
PRODID:-//ChamberMaster//Event Calendar 2.0//EN
METHOD:PUBLISH
X-PUBLISHED-TTL:P3D
REFRESH-INTERVAL:P3D
CALSCALE:GREGORIAN
BEGIN:VEVENT
DTSTART:20220220T210000Z
DTEND:20220221T000000Z
X-MICROSOFT-CDO-ALLDAYEVENT:FALSE
SUMMARY:Daddy Daughter Dance
DESCRIPTION:Escort your princess to a special evening full of smiles\, dancing\, and fun at the 16th Annual Daddy-Daughter Sweetheart Dance Sunday\, February 20. We have 2 times to choose from this year due covid. You can come 4:00   5 p.m. or 6   7 p.m. at the Fretterd Community Center. Dads and daughters ages 3-12 will enjoy dancing\, games\, refreshments\, and great music! The photo booth will be back this year for souvenir photos! Deadline to register is February 11. Sign up early! Cost is $40 per couple and $5 for each additional young lady.\n\nPictures will start at 3:30 for the 4:00 dance and 5:30 for the 6:00 dance.
X-ALT-DESC;FMTTYPE=text/html:<p>Escort your princess to a special evening full of smiles\, dancing\, and fun at the 16<sup>th</sup> Annual Daddy-Daughter Sweetheart Dance<strong> Sunday\, February 20. </strong>We have 2 times to choose from this year due covid. You can come 4:00 &ndash\; 5 p.m.<strong> or</strong> 6 &ndash\; 7 p.m. at the Fretterd Community Center<strong>. </strong>Dads and daughters ages 3-12 will enjoy dancing\, games\, refreshments\, and great music! The photo booth will be back this year for souvenir photos! Deadline to register is February 11. Sign up early! Cost is $40 per couple and $5 for each additional young lady.<br />\nPictures will start at 3:30 for the 4:00 dance and 5:30 for the 6:00 dance.</p>\n
LOCATION:General Fretterd Community Center 107 S. 4th Street Denton\, MD
UID:e.1366.3902
SEQUENCE:3
DTSTAMP:20260420T073753Z
URL:https://business.carolinechamber.org/events/details/daddy-daughter-dance-3902
END:VEVENT

END:VCALENDAR
