BEGIN:VCALENDAR
VERSION:2.0
PRODID:-//ChamberMaster//Event Calendar 2.0//EN
METHOD:PUBLISH
X-PUBLISHED-TTL:P3D
REFRESH-INTERVAL:P3D
CALSCALE:GREGORIAN
BEGIN:VEVENT
DTSTART:20200908T190000Z
DTEND:20200908T220000Z
X-MICROSOFT-CDO-ALLDAYEVENT:FALSE
SUMMARY:Denton Farmer's Market
DESCRIPTION:In lieu of our scheduled CA$H Mob\, please join the Caroline County  Chamber of Commerce at the Denton Farmer's Market. Visit Caroline County Chamber member Purple Peake and purchase items on sale from Clayton Farms.  Social Distancing and masks are required!
X-ALT-DESC;FMTTYPE=text/html:In lieu of our scheduled CA$H Mob\, please join the Caroline County&nbsp\; Chamber of Commerce at the Denton Farmer&#39\;s Market. Visit Caroline County Chamber member Purple Peake and purchase items on sale from Clayton Farms.&nbsp\; Social Distancing and masks are required!
LOCATION:4th & Gay Street Historic Downtown Denton
UID:e.1366.3688
SEQUENCE:3
DTSTAMP:20260421T082108Z
URL:https://business.carolinechamber.org/events/details/denton-farmer-s-market-3688
END:VEVENT

END:VCALENDAR
