BEGIN:VCALENDAR
VERSION:2.0
PRODID:-//ChamberMaster//Event Calendar 2.0//EN
METHOD:PUBLISH
X-PUBLISHED-TTL:P3D
REFRESH-INTERVAL:P3D
CALSCALE:GREGORIAN
BEGIN:VEVENT
DTSTART:20181206T230000Z
DTEND:20181207T000000Z
X-MICROSOFT-CDO-ALLDAYEVENT:FALSE
SUMMARY:Denton Holiday Parade
DESCRIPTION:The Annual Holiday Parade begins at the HAPS building \, travels along 5th Avenue to Market Street\, and ends at the Caroline County Courthouse.
X-ALT-DESC;FMTTYPE=text/html:The Annual Holiday Parade begins at the HAPS building \, travels along 5th Avenue to Market Street\, and ends at the Caroline County Courthouse.
LOCATION:
UID:e.1366.2060
SEQUENCE:3
DTSTAMP:20260424T140308Z
URL:https://business.carolinechamber.org/events/details/denton-holiday-parade-2060
END:VEVENT

END:VCALENDAR
