BEGIN:VCALENDAR
VERSION:2.0
PRODID:-//ChamberMaster//Event Calendar 2.0//EN
METHOD:PUBLISH
X-PUBLISHED-TTL:P3D
REFRESH-INTERVAL:P3D
CALSCALE:GREGORIAN
BEGIN:VEVENT
DTSTART:20190926T140000Z
DTEND:20190927T000000Z
X-MICROSOFT-CDO-ALLDAYEVENT:FALSE
SUMMARY:Dine for a Child at Tenchi
DESCRIPTION:Dine at Tenchi on Thursday\, September 26\, and 10% of your meal will go towards CASA of Caroline.\n\nCASA of Caroline works to ensure every abused and neglected child in Caroline County has a safe and stable home by giving them a voice in the system through a CASA (court appointed special advocate).  These CASA's are compassionate members of our community who give freely of their time.  Dine For A Child is one of the many ways CASA of Caroline reaches out to the community to find those people who want the fulfillment of giving their time to a child in need.
X-ALT-DESC;FMTTYPE=text/html:<span style="font-family:times new roman\,serif\;"><span style="font-size:12.0pt\;">Dine at Tenchi on Thursday\, September 26\, and 10% of your meal will go towards CASA of Caroline.<br />\nCASA of Caroline works to ensure every abused and neglected child in Caroline County has a safe and stable home by giving them a voice in the system through a CASA (court appointed special advocate).&nbsp\; These CASA&rsquo\;s are compassionate members of our community who give freely of their time.&nbsp\; Dine For A Child is one of the many ways CASA of Caroline reaches out to the community to find those people who want the fulfillment of giving their time to a child in need.</span></span>
LOCATION:Tenchi Spanish American Kitchen 103 S. Main Street Greensboro\, MD 21639
UID:e.1366.2528
SEQUENCE:3
DTSTAMP:20260424T023305Z
URL:https://business.carolinechamber.org/events/details/dine-for-a-child-at-tenchi-2528
END:VEVENT

END:VCALENDAR
