BEGIN:VCALENDAR
VERSION:2.0
PRODID:-//ChamberMaster//Event Calendar 2.0//EN
METHOD:PUBLISH
X-PUBLISHED-TTL:P3D
REFRESH-INTERVAL:P3D
CALSCALE:GREGORIAN
BEGIN:VEVENT
DTSTART:20210324T160000Z
DTEND:20210324T170000Z
X-MICROSOFT-CDO-ALLDAYEVENT:FALSE
SUMMARY:Eastern Shore Virtual Resource Fairs
DESCRIPTION:Join MCF and other local Eastern Shore agencies as we learn about the behavioral health services available in our community - from the comfort of your own home. Mental health and addiction can be challenging   but finding help doesn't have to be. Local providers will be available to describe their services and answer your questions. Upper Shore: March 23 from 12-1 PM Mid Shore: March 24 from 12-1 PM Lower Shore: March 25 from 12-1 PM Register at http://tiny.cc/ResourceFairSeries
X-ALT-DESC;FMTTYPE=text/html:Join MCF and other local Eastern Shore agencies as we learn about the behavioral health services available in our community - from the comfort of your own home. Mental health and addiction can be challenging &ndash\; but finding help doesn&rsquo\;t have to be. Local providers will be available to describe their services and answer your questions. Upper Shore: March 23 from 12-1 PM Mid Shore: March 24 from 12-1 PM Lower Shore: March 25 from 12-1 PM Register at http://tiny.cc/ResourceFairSeries
LOCATION:Virtual
UID:e.1366.3729
SEQUENCE:3
DTSTAMP:20260421T002202Z
URL:https://business.carolinechamber.org/events/details/eastern-shore-virtual-resource-fairs-3729
END:VEVENT

END:VCALENDAR
