BEGIN:VCALENDAR
VERSION:2.0
PRODID:-//ChamberMaster//Event Calendar 2.0//EN
METHOD:PUBLISH
X-PUBLISHED-TTL:P3D
REFRESH-INTERVAL:P3D
CALSCALE:GREGORIAN
BEGIN:VEVENT
DTSTART:20191214T110000Z
DTEND:20191215T060000Z
X-MICROSOFT-CDO-ALLDAYEVENT:FALSE
SUMMARY:Experience New York City during the holiday season!
DESCRIPTION:Experience New York City during the holiday season! Get started on Christmas\n\nshopping\, see a Broadway show\, visit some of the famous landmarks\, or lace\n\nup your skates and enjoy one of the city's ice rinks. You will be free for\n\nthe day to sightsee or start on your holiday shopping.  New York City offers\n\nwonderful shopping experiences from world renowned department stores to\n\ncraft fairs to unique boutiques-there's something for everyone on your list.\n\nWe will leave from the Health and Public Services building on Saturday\,\n\nDecember 14 at 6:00 a.m.\, leave New York at 8 p.m.\, and return around 1 a.m.\n\nCost is $65 per person.
X-ALT-DESC;FMTTYPE=text/html:<span style="font-size:16px\;"><span style="font-family:times new roman\;"><span style="background-color: rgb(255\, 255\, 255)\;">Experience New York City during the holiday season! Get started on Christmas</span><br style="font-family: monospace\; font-size: 12.09px\; background-color: rgb(255\, 255\, 255)\;" />\n<span style="background-color: rgb(255\, 255\, 255)\;">shopping\, see a Broadway show\, visit some of the famous landmarks\, or lace</span><br style="font-family: monospace\; font-size: 12.09px\; background-color: rgb(255\, 255\, 255)\;" />\n<span style="background-color: rgb(255\, 255\, 255)\;">up your skates and enjoy one of the city&#39\;s ice rinks. You will be free for</span><br style="font-family: monospace\; font-size: 12.09px\; background-color: rgb(255\, 255\, 255)\;" />\n<span style="background-color: rgb(255\, 255\, 255)\;">the day to sightsee or start on your holiday shopping. &nbsp\;New York City offers</span><br style="font-family: monospace\; font-size: 12.09px\; background-color: rgb(255\, 255\, 255)\;" />\n<span style="background-color: rgb(255\, 255\, 255)\;">wonderful shopping experiences from world renowned department stores to</span><br style="font-family: monospace\; font-size: 12.09px\; background-color: rgb(255\, 255\, 255)\;" />\n<span style="background-color: rgb(255\, 255\, 255)\;">craft fairs to unique boutiques-there&#39\;s something for everyone on your list.</span><br style="font-family: monospace\; font-size: 12.09px\; background-color: rgb(255\, 255\, 255)\;" />\n<span style="background-color: rgb(255\, 255\, 255)\;">We will leave from the Health and Public Services building on Saturday\,</span><br style="font-family: monospace\; font-size: 12.09px\; background-color: rgb(255\, 255\, 255)\;" />\n<span style="background-color: rgb(255\, 255\, 255)\;">December 14 at 6:00 a.m.\, leave New York at 8 p.m.\, and return around 1 a.m.</span><br style="font-family: monospace\; font-size: 12.09px\; background-color: rgb(255\, 255\, 255)\;" />\n<span style="background-color: rgb(255\, 255\, 255)\;">Cost is $65 per person.</span></span></span>
LOCATION:
UID:e.1366.3562
SEQUENCE:3
DTSTAMP:20260423T220554Z
URL:https://business.carolinechamber.org/events/details/experience-new-york-city-during-the-holiday-season-3562
END:VEVENT

END:VCALENDAR
