BEGIN:VCALENDAR
VERSION:2.0
PRODID:-//ChamberMaster//Event Calendar 2.0//EN
METHOD:PUBLISH
X-PUBLISHED-TTL:P3D
REFRESH-INTERVAL:P3D
CALSCALE:GREGORIAN
BEGIN:VEVENT
DTSTART:20190413T220000Z
DTEND:20190414T000000Z
X-MICROSOFT-CDO-ALLDAYEVENT:FALSE
SUMMARY:Family Movie Night
DESCRIPTION:come and join us to celebrate Easter with an egg hunting fun night\, popcorn and HOP the movie!!! This is a free event to YMCA members (must register in advance by April 10)
X-ALT-DESC;FMTTYPE=text/html:come and join us to celebrate Easter with an egg hunting fun night\, popcorn and HOP the movie!!! This is a free event to YMCA members (must register in advance by April 10)
LOCATION:Caroline County Family YMCA 46 Denton Plaza Denton MD 21629
UID:e.1366.2246
SEQUENCE:3
DTSTAMP:20260424T085535Z
URL:https://business.carolinechamber.org/events/details/family-movie-night-2246
END:VEVENT

END:VCALENDAR
