BEGIN:VCALENDAR
VERSION:2.0
PRODID:-//ChamberMaster//Event Calendar 2.0//EN
METHOD:PUBLISH
X-PUBLISHED-TTL:P3D
REFRESH-INTERVAL:P3D
CALSCALE:GREGORIAN
BEGIN:VEVENT
DTSTART:20191130T140000Z
DTEND:20191201T020000Z
X-MICROSOFT-CDO-ALLDAYEVENT:FALSE
SUMMARY:Fat Ricky's "Toys for Kids" Cruise
DESCRIPTION:Toy drive and cruise to benefit local children in need.\n\n\n\n9 -11 am FREE buffet style breakfast for all cruisers and anyone who brings in an unwrapped toy.\n\n11 am Start staging cars for the "Cruise"\n\n12 pm -Leave Fat Ricky's parking lot heading to Dave's Place in Ridgely\n\n1:30 pm - Leave Dave's Place and head to The 313 Roadhouse\n\n3 pm - Leave The 313 Roadhouse and head to Harry's and The Pub in Denton\n\n4:30 pm - Leave Market Street in Denton and head back to Fat Ricky's\n\n5 pm Trophy's for the cars and most generous venue\n\n9 pm - 1 am Fuzzbox Live at Fat Ricky's\n\n\n\n11 am - 1 pm - Live radio broadcast from Fat Ricky's on 107.1 The Duck with DJ Shane\n\n\n\nANYONE who brings in an unwrapped toy for the kids on November 30 will receive 20% off their entire bill.\n\n\n\nWe will have assistance of the local police departments in order to make this a safe and stress free cruise.
X-ALT-DESC;FMTTYPE=text/html:Toy drive and cruise to benefit local children in need.<br />\n<br />\n9 -11 am FREE buffet style breakfast for all cruisers and anyone who brings in an unwrapped toy.<br />\n11 am Start staging cars for the &quot\;Cruise&quot\;<br />\n12 pm -Leave Fat Ricky&#39\;s parking lot heading to Dave&#39\;s Place in Ridgely<br />\n1:30 pm - Leave Dave&#39\;s Place and head to The 313 Roadhouse<br />\n3 pm - Leave The 313 Roadhouse and head to Harry&#39\;s and The Pub in Denton<br />\n4:30 pm - Leave Market Street in Denton and head back to Fat Ricky&#39\;s<br />\n5 pm Trophy&#39\;s for the cars and most generous venue<br />\n9 pm - 1 am Fuzzbox Live at Fat Ricky&#39\;s<br />\n<br />\n11 am - 1 pm - Live radio broadcast from Fat Ricky&#39\;s on 107.1 The Duck with DJ Shane<br />\n<br />\nANYONE who brings in an unwrapped toy for the kids on November 30 will receive 20% off their entire bill.<br />\n<br />\nWe will have assistance of the local police departments in order to make this a safe and stress free cruise.<br />\n<br />\n&nbsp\;
LOCATION:
UID:e.1366.3578
SEQUENCE:3
DTSTAMP:20260423T233829Z
URL:https://business.carolinechamber.org/events/details/fat-ricky-s-toys-for-kids-cruise-3578
END:VEVENT

END:VCALENDAR
