BEGIN:VCALENDAR
VERSION:2.0
PRODID:-//ChamberMaster//Event Calendar 2.0//EN
METHOD:PUBLISH
X-PUBLISHED-TTL:P3D
REFRESH-INTERVAL:P3D
CALSCALE:GREGORIAN
BEGIN:VEVENT
DTSTART:20181211T000000Z
DTEND:20181211T010000Z
X-MICROSOFT-CDO-ALLDAYEVENT:FALSE
SUMMARY:Federalsburg Christmas Parade
DESCRIPTION:Fun family event\, judging for trophies for many types of enty classifications.  Santa Claus will visit the Federalsburg Heritage Museum after the parade.\n\nContact federalsburg.org/communitynews for parade application
X-ALT-DESC;FMTTYPE=text/html:Fun family event\, judging for trophies for many types of enty classifications.&nbsp\; Santa Claus will visit the Federalsburg Heritage Museum after the parade.<br />\nContact <em>federalsburg.org/communitynew</em>s for parade application
LOCATION:Main Street Federalsburg Parade line up starts at 6 pm at University Ave & Bloomingdale Ave.
UID:e.1366.2052
SEQUENCE:3
DTSTAMP:20260424T135859Z
URL:https://business.carolinechamber.org/events/details/federalsburg-christmas-parade-2052
END:VEVENT

END:VCALENDAR
