BEGIN:VCALENDAR
VERSION:2.0
PRODID:-//ChamberMaster//Event Calendar 2.0//EN
METHOD:PUBLISH
X-PUBLISHED-TTL:P3D
REFRESH-INTERVAL:P3D
CALSCALE:GREGORIAN
BEGIN:VEVENT
DTSTART:20191019T130000Z
DTEND:20191019T180000Z
X-MICROSOFT-CDO-ALLDAYEVENT:FALSE
SUMMARY:Frederick Douglass in the Mid-Shore - Walking Tour of Old Denton & Cambridge
DESCRIPTION:Emergent scholarship detailing unknown visits Frederick Douglass made to the Mid-Shore area of the Delmarva has generated fresh reflections and opened new interpretations of the lost history of Maryland's Eastern Shore following the American Civil War.\n\nLearn connections Frederick Douglass maintained to communities in Cambridge and Denton throughout his entire life from Wye House playmate Daniel Lloyd to the centuries-long sustained friendship of the Douglass (Bailey) Family to the Waymans of Caroline County to Bishop John Fletcher Hurst\, founder of American University\, to Rev. Henry Augustus Monroe\, drummer boy for the 54th Massachusetts Volunteer Infantry.\n\nTake a closer look at the lost local history of the Shore through modern and antiquarian perspectives with local walking tours which include the Dorchester and Caroline County court houses\, Long Wharf\, Denton Steamboat Wharf\, Bethel African Methodist Episcopal Church and Waugh Chapel in Cambridge.\n\n* Tour of Cambridge will include visit to Harriet Tubman Mural at the Harriet Tubman Museum and Education Center at 424 Race Street downtown. *
X-ALT-DESC;FMTTYPE=text/html:<p style="margin: 0px\; padding: 0px\; color: rgb(111\, 114\, 135)\; font-family: &quot\;Neue Plak&quot\;\, -apple-system\, BlinkMacSystemFont\, Roboto\, &quot\;Helvetica Neue&quot\;\, Helvetica\, Tahoma\, Arial\, sans-serif\; font-size: 14.9333px\; letter-spacing: 0.5px\; background-color: rgb(255\, 255\, 255)\;">Emergent scholarship detailing unknown visits Frederick Douglass made to the Mid-Shore area of the Delmarva has generated fresh reflections and opened new interpretations of the lost history of Maryland&#39\;s Eastern Shore following the American Civil War.</p>\n\n<p style="margin: 0px\; padding: 10px 0px 0px\; color: rgb(111\, 114\, 135)\; font-family: &quot\;Neue Plak&quot\;\, -apple-system\, BlinkMacSystemFont\, Roboto\, &quot\;Helvetica Neue&quot\;\, Helvetica\, Tahoma\, Arial\, sans-serif\; font-size: 14.9333px\; letter-spacing: 0.5px\; background-color: rgb(255\, 255\, 255)\;">Learn connections Frederick Douglass maintained to communities in Cambridge and Denton throughout his entire life from Wye House playmate Daniel Lloyd to the centuries-long sustained friendship of the Douglass (Bailey) Family to the Waymans of Caroline County to Bishop John Fletcher Hurst\, founder of American University\, to Rev. Henry Augustus Monroe\, drummer boy for the 54th Massachusetts Volunteer Infantry.</p>\n\n<p style="margin: 0px\; padding: 10px 0px 0px\; color: rgb(111\, 114\, 135)\; font-family: &quot\;Neue Plak&quot\;\, -apple-system\, BlinkMacSystemFont\, Roboto\, &quot\;Helvetica Neue&quot\;\, Helvetica\, Tahoma\, Arial\, sans-serif\; font-size: 14.9333px\; letter-spacing: 0.5px\; background-color: rgb(255\, 255\, 255)\;">Take a closer look at the lost local history of the Shore through modern and antiquarian perspectives with local walking tours which include the Dorchester and Caroline County court houses\, Long Wharf\, Denton Steamboat Wharf\, Bethel African Methodist Episcopal Church and Waugh Chapel in Cambridge.</p>\n\n<p style="margin: 0px\; padding: 10px 0px 0px\; color: rgb(111\, 114\, 135)\; font-family: &quot\;Neue Plak&quot\;\, -apple-system\, BlinkMacSystemFont\, Roboto\, &quot\;Helvetica Neue&quot\;\, Helvetica\, Tahoma\, Arial\, sans-serif\; font-size: 14.9333px\; letter-spacing: 0.5px\; background-color: rgb(255\, 255\, 255)\;"><span style="font-weight: 700\; padding-top: 0px\;">*</span>&nbsp\;Tour of Cambridge will include visit to Harriet Tubman Mural at the Harriet Tubman Museum and Education Center at 424 Race Street downtown.&nbsp\;<span style="font-weight: 700\;">*</span></p>\n
LOCATION:Free parking is available on site. Tour will include walking tour of Cambridge followed by bus transportation to Denton for a walking tour. Bus will return to Cambridge where late lunch at Snapper's is voluntary. Total walking is 3 - 4 miles. Not recommended for individuals with mobility issues. Bus will seat total of fifteen (15). Waiting list will be generated in event of sellout. Group rates may apply. Rain or Shine
UID:e.1366.2536
SEQUENCE:3
DTSTAMP:20260424T011716Z
URL:https://business.carolinechamber.org/events/details/frederick-douglass-in-the-mid-shore-walking-tour-of-old-denton-cambridge-2536
END:VEVENT

END:VCALENDAR
