BEGIN:VCALENDAR
VERSION:2.0
PRODID:-//ChamberMaster//Event Calendar 2.0//EN
METHOD:PUBLISH
X-PUBLISHED-TTL:P3D
REFRESH-INTERVAL:P3D
CALSCALE:GREGORIAN
BEGIN:VEVENT
DTSTART:20190309T000000Z
DTEND:20190309T020000Z
X-MICROSOFT-CDO-ALLDAYEVENT:FALSE
SUMMARY:Friday Nights in Caroline : Charm City Junction
DESCRIPTION:Dance-inducing Old Time rhythms and foot-stomping Irish melodies to hard-driving Bluegrass\, this acoustic roots quartet creates a fresh soundscape that keeps listeners on the edge of their seats wondering where they'll go next. Four of the most talented and promising musicians in the country: Patrick McAvinue on fiddle\, Brad Kolodner on clawhammer banjo\, Sean McComiskey on button accordion ans Alex Lacquement on upright bass.
X-ALT-DESC;FMTTYPE=text/html:<span style="color: rgb(103\, 103\, 103)\; font-family: Arial\, sans-serif\; font-size: 16px\; background-color: rgb(255\, 255\, 255)\;">Dance-inducing Old Time rhythms and foot-stomping Irish melodies to hard-driving Bluegrass\, this acoustic roots quartet creates a fresh soundscape that keeps listeners on the edge of their seats wondering where they&rsquo\;ll go next. Four of the most talented and promising musicians in the country: Patrick McAvinue on fiddle\, Brad Kolodner on clawhammer banjo\, Sean McComiskey on button accordion ans Alex Lacquement on upright bass.</span>
LOCATION:Denton Library
UID:e.1366.2242
SEQUENCE:3
DTSTAMP:20260424T113818Z
URL:https://business.carolinechamber.org/events/details/friday-nights-in-caroline-charm-city-junction-2242
END:VEVENT

END:VCALENDAR
