BEGIN:VCALENDAR
VERSION:2.0
PRODID:-//ChamberMaster//Event Calendar 2.0//EN
METHOD:PUBLISH
X-PUBLISHED-TTL:P3D
REFRESH-INTERVAL:P3D
CALSCALE:GREGORIAN
BEGIN:VEVENT
DTSTART:20190216T000000Z
DTEND:20190216T020000Z
X-MICROSOFT-CDO-ALLDAYEVENT:FALSE
SUMMARY:Friday Nites in Caroline: Back Porch Blues
DESCRIPTION:The Friday Nites in Caroline concert season continues with the acoustic blues sounds of the nationally-acclaimed trio Back Porch Blues. The guitar-playing gifts of Eleanor Ellis\, the blues harmonica virtuosity of Jay Summerour\, and the percussion talents of Eric Selby always please the crowds. Don't miss this free concert! FREE!
X-ALT-DESC;FMTTYPE=text/html:<span style="background-color: rgb(255\, 255\, 255)\; font-size: 11.5pt\; line-height: 19.1667px\; font-family: Arial\, sans-serif\; color: rgb(32\, 32\, 32)\;">The Friday Nites in Caroline concert season continues with the acoustic blues sounds of the nationally-acclaimed trio Back Porch Blues. The guitar-playing gifts of Eleanor Ellis\, the blues harmonica virtuosity of Jay Summerour\, and the percussion talents of Eric Selby always please the crowds. Don&#39\;t miss this free concert!&nbsp\;</span><strong style="font-family: &quot\;Times New Roman&quot\;\, serif\; font-size: 16px\; background-color: rgb(255\, 255\, 255)\;"><span style="font-family: Arial\, sans-serif\; color: goldenrod\;">FREE!</span></strong>
LOCATION:Caroline County Central Library Market Street Denton\, MD
UID:e.1366.2079
SEQUENCE:3
DTSTAMP:20260424T114424Z
URL:https://business.carolinechamber.org/events/details/friday-nites-in-caroline-back-porch-blues-2079
END:VEVENT

END:VCALENDAR
