BEGIN:VCALENDAR
VERSION:2.0
PRODID:-//ChamberMaster//Event Calendar 2.0//EN
METHOD:PUBLISH
X-PUBLISHED-TTL:P3D
REFRESH-INTERVAL:P3D
CALSCALE:GREGORIAN
BEGIN:VEVENT
DTSTART:20190329T230000Z
DTEND:20190330T010000Z
X-MICROSOFT-CDO-ALLDAYEVENT:FALSE
SUMMARY:Friday Nites in Caroline : Flatland Drive
DESCRIPTION:Influenced by the patriarchs of bluegrass music\, as well as the likes of Seldom Scene\, Bluegrass Album Band\, and Lonesome River Band. Alan Rausch on dobro\, Lee Collins on guitar\, Brad Turner on mandolin\, Curt Fox on banjo and Rodney Collins on bass. Sponsored by Towers' Concrete.
X-ALT-DESC;FMTTYPE=text/html:<span style="color: rgb(103\, 103\, 103)\; font-family: Arial\, sans-serif\; font-size: 16px\; background-color: rgb(255\, 255\, 255)\;">Influenced by the patriarchs of bluegrass music\, as well as the likes of Seldom Scene\, Bluegrass Album Band\, and Lonesome River Band. Alan Rausch on dobro\, Lee Collins on guitar\, Brad Turner on mandolin\, Curt Fox on banjo and Rodney Collins on bass. Sponsored by Towers&rsquo\; Concrete.</span>
LOCATION:Denton Library
UID:e.1366.2244
SEQUENCE:3
DTSTAMP:20260424T101744Z
URL:https://business.carolinechamber.org/events/details/friday-nites-in-caroline-flatland-drive-2244
END:VEVENT

END:VCALENDAR
