BEGIN:VCALENDAR
VERSION:2.0
PRODID:-//ChamberMaster//Event Calendar 2.0//EN
METHOD:PUBLISH
X-PUBLISHED-TTL:P3D
REFRESH-INTERVAL:P3D
CALSCALE:GREGORIAN
BEGIN:VEVENT
DTSTART:20210924T200000Z
DTEND:20210924T223000Z
X-MICROSOFT-CDO-ALLDAYEVENT:FALSE
SUMMARY:Going Purple Together
DESCRIPTION:Join your neighbors and community at the second annual Mid-Shore Going Purple Together gathering in Idlewild Park on Friday\, September 24. Enjoy a live DJ\, virtual reality\, a teen-created hip-hop time capsule\, local African American history exhibit\, Zumba\, an art show and so much more as we celebrate Go Purple and Recovery Month in the mid-shore. A Peer Support Specialist ceremony will honor local heroes who have overcome their substance use addiction and are now helping others through the their journey to sobriety. Learn about local resources to help those struggling with substance use\, and outdoor dine with some tasty food truck offerings\, including Amy Cool's Ice Cream Express and So Coast. For more details on Going Purple Together and other Go Purple events happening in the mid-shore visit www.midshorebehavioralhealth.org/gpt.\n\n \n\nEvent sponsored by Mid Shore Behavioral Health and many local agencies including Caroline County YMCA\, Caroline Goes Purple\, Caroline County Health Department\, Chesapeake Heritage Project\, Chesapeake Voyagers Choptank Community Health\, Dorchester Goes Purple\, Dorchester County Health Department\, Dri-Dock Wellness and Recovery\, Kent County Health Department\, Kent Rotary\, Kent Goes Purple\, Maryland Addiction Consultation Service\, Mariah's Mission\, Maryland Coalition of Families\, Maryland ROTA\, Mid Shore Pro Bono\, Mid-Shore Restoring HOPE in Women\, Minary's Dream Alliance Queen Anne's County Health Department\, Queen Anne's County Goes Purple\, Recovery in Motion\, Sante Mobile Crisis\, Talbot County Health Department\, and Talbot Goes Purple.
X-ALT-DESC;FMTTYPE=text/html:<div dir="auto" style="margin: 0px\; padding: 0px\; font-family: Tahoma\, Geneva\, sans-serif\; font-size: 12.09px\; background-color: rgb(255\, 255\, 255)\;">Join your neighbors and community at the second annual Mid-Shore Going Purple Together gathering in Idlewild Park on Friday\, September 24. Enjoy a live DJ\, virtual reality\, a teen-created hip-hop time capsule\, local African American history exhibit\, Zumba\, an art show and so much more as we celebrate Go Purple and Recovery Month in the mid-shore. A Peer Support Specialist ceremony will honor local heroes who have overcome their substance use addiction and are now helping others through the their journey to sobriety. Learn about local resources to help those struggling with substance use\, and outdoor dine with some tasty food truck offerings\, including Amy Cool&#39\;s Ice Cream Express and So Coast. For more details on Going Purple Together and other Go Purple events happening in the mid-shore visit&nbsp\;<a href="http://www.midshorebehavioralhealth.org/gpt" rel="noopener noreferrer" style="color: rgb(0\, 102\, 204)\; text-decoration-line: none\; outline: none\;" target="_blank" title="This external link will open in a new window">www.midshorebehavioralhealth.org/gpt</a>.</div>\n\n<div dir="auto" style="margin: 0px\; padding: 0px\; font-family: Tahoma\, Geneva\, sans-serif\; font-size: 12.09px\; background-color: rgb(255\, 255\, 255)\;">&nbsp\;</div>\n\n<div dir="auto" style="margin: 0px\; padding: 0px\; font-family: Tahoma\, Geneva\, sans-serif\; font-size: 12.09px\; background-color: rgb(255\, 255\, 255)\;">Event sponsored by Mid Shore Behavioral Health and many local agencies including Caroline County YMCA\, Caroline Goes Purple\, Caroline County Health Department\, Chesapeake Heritage Project\, Chesapeake Voyagers Choptank Community Health\, Dorchester Goes Purple\, Dorchester County Health Department\, Dri-Dock Wellness and Recovery\, Kent County Health Department\, Kent Rotary\, Kent Goes Purple\, Maryland Addiction Consultation Service\, Mariah&#39\;s Mission\, Maryland Coalition of Families\, Maryland ROTA\, Mid Shore Pro Bono\, Mid-Shore Restoring HOPE in Women\, Minary&#39\;s Dream Alliance Queen Anne&#39\;s County Health Department\, Queen Anne&#39\;s County Goes Purple\, Recovery in Motion\, Sante Mobile Crisis\, Talbot County Health Department\, and Talbot Goes Purple.&nbsp\;</div>\n
LOCATION:https://fb.me/e/3Ulz0Ka7w
UID:e.1366.3755
SEQUENCE:3
DTSTAMP:20260420T124921Z
URL:https://business.carolinechamber.org/events/details/going-purple-together-3755
END:VEVENT

END:VCALENDAR
