BEGIN:VCALENDAR
VERSION:2.0
PRODID:-//ChamberMaster//Event Calendar 2.0//EN
METHOD:PUBLISH
X-PUBLISHED-TTL:P3D
REFRESH-INTERVAL:P3D
CALSCALE:GREGORIAN
BEGIN:VEVENT
DTSTART:20181015T123000Z
DTEND:20181015T200000Z
X-MICROSOFT-CDO-ALLDAYEVENT:FALSE
SUMMARY:Golf Tournament for Athletic Scholarships
DESCRIPTION:Join us on Monday\, October 15th at River Marsh Golf Club part of the Hyatt Regency Chesapeake Resort as we take to the greens to benefit our student-athletes. This year's Golf Tournament for Athletic Scholarships will offer an opportunity to contribute to our General Athletic Scholarships Fund by sponsoring at one of seven different levels\, or by signing up to play a round with your team. Registration opens with a continental breakfast at 8:30 am and a shotgun start at 9:30\, followed by catered lunch on the course during game play. We'll head to the Eagle's Nest Bar & Grille afterwards for a social hour and post-round reception.
X-ALT-DESC;FMTTYPE=text/html:Join us on Monday\, October 15th at River Marsh Golf Club&mdash\;part of the Hyatt Regency Chesapeake Resort&mdash\;as we take to the greens to benefit our student-athletes. This year&#39\;s Golf Tournament for Athletic Scholarships will offer an opportunity to contribute to our General Athletic Scholarships Fund by sponsoring at one of seven different levels\, or by signing up to play a round with your team. Registration opens with a continental breakfast at 8:30 am and a shotgun start at 9:30\, followed by catered lunch on the course during game play. We&#39\;ll head to the Eagle&#39\;s Nest Bar &amp\; Grille afterwards for a social hour and post-round reception.
LOCATION:River Marsh Golf Club - at the Hyatt Regency Chesapeake Bay 100 Heron Blvd. at Route 50 Cambridge\, Maryland 21613
UID:e.1366.2029
SEQUENCE:3
DTSTAMP:20260424T163432Z
URL:https://business.carolinechamber.org/events/details/golf-tournament-for-athletic-scholarships-2029
END:VEVENT

END:VCALENDAR
