BEGIN:VCALENDAR
VERSION:2.0
PRODID:-//ChamberMaster//Event Calendar 2.0//EN
METHOD:PUBLISH
X-PUBLISHED-TTL:P3D
REFRESH-INTERVAL:P3D
CALSCALE:GREGORIAN
BEGIN:VEVENT
DTSTART:20181208T230000Z
DTEND:20181209T000000Z
X-MICROSOFT-CDO-ALLDAYEVENT:FALSE
SUMMARY:Greensboro Lighting of the City and Parade
DESCRIPTION:Bring the family out to the annual parade and lighting of the city. Get a free picture taken with Santa. Free cookies and cocoa at the park.
X-ALT-DESC;FMTTYPE=text/html:Bring the family out to the annual parade and lighting of the city. Get a free picture taken with Santa. Free cookies and cocoa at the park.
LOCATION:Parade down Sunset Ave\, Ends at Riverside Park
UID:e.1366.2051
SEQUENCE:3
DTSTAMP:20260424T140844Z
URL:https://business.carolinechamber.org/events/details/greensboro-lighting-of-the-city-and-parade-2051
END:VEVENT

END:VCALENDAR
