BEGIN:VCALENDAR
VERSION:2.0
PRODID:-//ChamberMaster//Event Calendar 2.0//EN
METHOD:PUBLISH
X-PUBLISHED-TTL:P3D
REFRESH-INTERVAL:P3D
CALSCALE:GREGORIAN
BEGIN:VEVENT
DTSTART:20191214T230000Z
DTEND:20191215T000000Z
X-MICROSOFT-CDO-ALLDAYEVENT:FALSE
SUMMARY:Greensboro Lighting of the City and Parade
DESCRIPTION:Bring the family out to the annual lighting of the city. Christmas parade followed by the lighting of the city's tree.
X-ALT-DESC;FMTTYPE=text/html:Bring the family out to the annual lighting of the city. Christmas parade followed by the lighting of the city&#39\;s tree.
LOCATION:Parade down Sunset Ave - Ending at Riverside Park\, Greensboro\, MD
UID:e.1366.3576
SEQUENCE:3
DTSTAMP:20260423T233839Z
URL:https://business.carolinechamber.org/events/details/greensboro-lighting-of-the-city-and-parade-3576
END:VEVENT

END:VCALENDAR
