BEGIN:VCALENDAR
VERSION:2.0
PRODID:-//ChamberMaster//Event Calendar 2.0//EN
METHOD:PUBLISH
X-PUBLISHED-TTL:P3D
REFRESH-INTERVAL:P3D
CALSCALE:GREGORIAN
BEGIN:VEVENT
DTSTART:20191207T150000Z
DTEND:20191207T210000Z
X-MICROSOFT-CDO-ALLDAYEVENT:FALSE
SUMMARY:Holiday Market Place
DESCRIPTION:Shop your holiday wish list at this annual indoor craft fair\, hosted by Denton Main Street.
X-ALT-DESC;FMTTYPE=text/html:Shop your holiday wish list at this annual indoor craft fair\, hosted by Denton Main Street.
LOCATION:Wharves of Choptank Visitor Center 3 Crouse Park Lane\, Denton
UID:e.1366.3571
SEQUENCE:3
DTSTAMP:20260423T220420Z
URL:https://business.carolinechamber.org/events/details/holiday-market-place-3571
END:VEVENT

END:VCALENDAR
