BEGIN:VCALENDAR
VERSION:2.0
PRODID:-//ChamberMaster//Event Calendar 2.0//EN
METHOD:PUBLISH
X-PUBLISHED-TTL:P3D
REFRESH-INTERVAL:P3D
CALSCALE:GREGORIAN
BEGIN:VEVENT
DTSTART:20161126T170000Z
DTEND:20161215T170000Z
X-MICROSOFT-CDO-ALLDAYEVENT:FALSE
SUMMARY:Holiday Marketplace
DESCRIPTION:Shop local for art\, crafts\, soak\, baked goods\, flowers\, holiday gifts\, and more. Location: Downtown Denton. Times and days vary. 11/26 - 10a.m.04p.m. 12/1\, 5 - 5-7:30p.m. 12/2\, 3\, 9\, 10\, -10a.m.-4p.m. 12/15 12p.m.-7p.m. Hosted by DDMS. call 410-479-2050 or email manager@downtowndenton.com
X-ALT-DESC;FMTTYPE=text/html:Shop local for art\, crafts\, soak\, baked goods\, flowers\, holiday gifts\, and more. Location: Downtown Denton. Times and days vary. 11/26 - 10a.m.04p.m. 12/1\, 5 - 5-7:30p.m. 12/2\, 3\, 9\, 10\, -10a.m.-4p.m. 12/15 12p.m.-7p.m. Hosted by DDMS. call 410-479-2050 or email manager@downtowndenton.com
LOCATION:Downtown Denton
UID:e.1366.635
SEQUENCE:3
DTSTAMP:20260426T002756Z
URL:https://business.carolinechamber.org/events/details/holiday-marketplace-635
END:VEVENT

END:VCALENDAR
