BEGIN:VCALENDAR
VERSION:2.0
PRODID:-//ChamberMaster//Event Calendar 2.0//EN
METHOD:PUBLISH
X-PUBLISHED-TTL:P3D
REFRESH-INTERVAL:P3D
CALSCALE:GREGORIAN
BEGIN:VEVENT
DTSTART:20181129T220000Z
DTEND:20181130T003000Z
X-MICROSOFT-CDO-ALLDAYEVENT:FALSE
SUMMARY:Holiday Mixer | Festival of Trees
DESCRIPTION:Compass Regional Hospice will be hosting\, along with Bill and Gail Towers\, the 2018 Caroline County Festival of Trees to benefit hospice care and grief support services in Caroline County. \n\n\n\nThe event will begin Tuesday\, Nov. 27\, with tree setup from 11 a.m. to 6 p.m. Tree setup will continue on Nov. 28 from 2 to 6 p.m.\n\n\n\nTrees will be available for viewing from 6 to 8 p.m. Nov. 30\, and Santa will make a special appearance\, as well. Trees again will be available for viewing from 2 to 4 p.m. Dec. 1. \n\n\n\nBidding for the trees will begin at 4 p.m. Nov. 29 and will run through 4 p.m. Dec. 1 and will be facilitated by Trice Auctions. Whomever has the winning bid on a tree will be able to pick up their tree between 11 a.m. and 3 p.m. Dec. 2. \n\n\n\nCompass Regional Hospice is looking for sponsors for the event\, as well as tree decorators and bidders. For more information\, please contact Kenda Leager at 443-262-4106 or kleager@compassregionalhospice.org.
X-ALT-DESC;FMTTYPE=text/html:<span style="color: rgb(0\, 0\, 0)\; font-family: Calibri\, sans-serif\; font-size: 14.6667px\;">Compass Regional Hospice will be hosting\, along with Bill and Gail Towers\, the 2018 Caroline County Festival of Trees to benefit hospice care and grief support services in Caroline County. </span><br />\n<br />\n<span style="color: rgb(0\, 0\, 0)\; font-family: Calibri\, sans-serif\; font-size: 14.6667px\;">The event will begin Tuesday\, Nov. 27\, with tree setup from 11 a.m. to 6 p.m. Tree setup will continue on Nov. 28 from 2 to 6 p.m.<br />\n<br />\nTrees will be available for viewing from 6 to 8 p.m. Nov. 30\, and Santa will make a special appearance\, as well. Trees again will be available for viewing from 2 to 4 p.m. Dec. 1.</span><span style="color: rgb(0\, 0\, 0)\; font-family: Calibri\, sans-serif\; font-size: 14.6667px\;">&nbsp\;</span><br />\n<br />\n<span style="color: rgb(0\, 0\, 0)\; font-family: Calibri\, sans-serif\; font-size: 14.6667px\;">Bidding for the trees will begin at 4 p.m. Nov. 29 and will run through 4 p.m. Dec. 1 and will be facilitated by Trice Auctions. Whomever has the winning bid on a tree will be able to pick up their tree between 11 a.m. and 3 p.m. Dec. 2.</span><span style="color: rgb(0\, 0\, 0)\; font-family: Calibri\, sans-serif\; font-size: 14.6667px\;">&nbsp\;</span><br />\n<br />\n<span style="color: rgb(0\, 0\, 0)\; font-family: Calibri\, sans-serif\; font-size: 14.6667px\;">Compass Regional Hospice is looking for sponsors for the event\, as well as tree decorators and bidders. For more information\, please contact Kenda Leager at 443-262-4106 or kleager@compassregionalhospice.org.</span>
LOCATION:Towers Family Historical Museum 26299 Sennett Road Denton\, MD 21629
UID:e.1366.2040
SEQUENCE:3
DTSTAMP:20260424T154421Z
URL:https://business.carolinechamber.org/events/details/holiday-mixer-festival-of-trees-2040
END:VEVENT

END:VCALENDAR
