BEGIN:VCALENDAR
VERSION:2.0
PRODID:-//ChamberMaster//Event Calendar 2.0//EN
METHOD:PUBLISH
X-PUBLISHED-TTL:P3D
REFRESH-INTERVAL:P3D
CALSCALE:GREGORIAN
BEGIN:VEVENT
DTSTART:20180327T220000Z
DTEND:20180327T233000Z
X-MICROSOFT-CDO-ALLDAYEVENT:FALSE
SUMMARY:Information Night: Switzerland\, Austria & Bavaria Trip
DESCRIPTION:Join us to learn more about our trip to Switzerland\, Austria & Bavaria  in October\, 2018.  We will host a representative from Collette who can answer all of your questions about the trip.  Learn how to save $200 when you book with the Caroline Chamber!\n\n\n\nWe will have light refreshments for the evening!
X-ALT-DESC;FMTTYPE=text/html:Join us to learn more about our trip to Switzerland\, Austria &amp\; Bavaria&nbsp\;&nbsp\;in October\, 2018. &nbsp\;We will host a representative from Collette who can answer all of your questions about the trip.&nbsp\; Learn how to save $200 when you book with the Caroline Chamber!<br />\n<br />\nWe will have light refreshments for the evening!&nbsp\;<br />\n&nbsp\;
LOCATION:Caroline Chamber Office Large Conference Room 9194 Legion Road Denton\, MD 21629
UID:e.1366.970
SEQUENCE:3
DTSTAMP:20260425T023952Z
URL:https://business.carolinechamber.org/events/details/information-night-switzerland-austria-bavaria-trip-970
END:VEVENT

END:VCALENDAR
