BEGIN:VCALENDAR
VERSION:2.0
PRODID:-//ChamberMaster//Event Calendar 2.0//EN
METHOD:PUBLISH
X-PUBLISHED-TTL:P3D
REFRESH-INTERVAL:P3D
CALSCALE:GREGORIAN
BEGIN:VEVENT
DTSTART:20161208T200000Z
DTEND:20161208T220000Z
X-MICROSOFT-CDO-ALLDAYEVENT:FALSE
SUMMARY:Joint Ribbon Cutting for Talbot Special Riders
DESCRIPTION:Join the Caroline and Talbot County Chambers of Commerce for a Joint Ribbon Cutting Ceremony celebrating the relocation of Talbot Special Riders\, Inc. to Timber Grove Farm in Preston\, Maryland.  Talbot Special Riders provides physical and emotional therapy to individuals\, using horses.\n\n\n\nClick here to learn more about their amazing program and services http://www.talbotspecialriders.com/
X-ALT-DESC;FMTTYPE=text/html:Join the Caroline and Talbot County Chambers of Commerce for a Joint Ribbon Cutting Ceremony celebrating the relocation of Talbot Special Riders\, Inc. to Timber Grove Farm in Preston\, Maryland. &nbsp\;Talbot Special Riders provides physical and emotional therapy to individuals\, using horses.<br />\n<br />\nClick here to learn more about their amazing program and services&nbsp\;<a href="http://www.talbotspecialriders.com/">http://www.talbotspecialriders.com/</a>
LOCATION:Talbot Special Riders has relocated it's therapeutic services to: Timber Grove Farm 6292 Statum Road Preston\, MD 21655
UID:e.1366.637
SEQUENCE:3
DTSTAMP:20260426T002853Z
URL:https://business.carolinechamber.org/events/details/joint-ribbon-cutting-for-talbot-special-riders-637
END:VEVENT

END:VCALENDAR
