BEGIN:VCALENDAR
VERSION:2.0
PRODID:-//ChamberMaster//Event Calendar 2.0//EN
METHOD:PUBLISH
X-PUBLISHED-TTL:P3D
REFRESH-INTERVAL:P3D
CALSCALE:GREGORIAN
BEGIN:VEVENT
DTSTART:20220623T220000Z
DTEND:20220624T000000Z
X-MICROSOFT-CDO-ALLDAYEVENT:FALSE
SUMMARY:June Caroline Nonprofit Network Fundraiser Dinner
DESCRIPTION:This event has been closed out. We are no longer taking registrations.\n\nJoin the Caroline Nonprofit Network for its next Nonprofit Dinner\n\nJune 23\, 2022 at 6:00 PM\n\nAll proceeds go to our nonprofits.\n\nCost is $45 per guest or $300 for a table of eight.\n\nIncludes dinner and soft drink. \n\nWe will have a cake auction\, door prizes and wine bar!
X-ALT-DESC;FMTTYPE=text/html:This event has been closed out. We are no longer taking registrations.<br />\nJoin the Caroline Nonprofit Network for its next Nonprofit Dinner<br />\nJune 23\, 2022 at 6:00 PM<br />\nAll proceeds go to our nonprofits.<br />\nCost is $45 per guest or $300 for a table of eight.<br />\nIncludes dinner and soft drink.&nbsp\;<br />\nWe will have a cake auction\, door prizes and wine bar!
LOCATION:
UID:e.1366.3943
SEQUENCE:3
DTSTAMP:20260420T014530Z
URL:https://business.carolinechamber.org/events/details/june-caroline-nonprofit-network-fundraiser-dinner-3943
END:VEVENT

END:VCALENDAR
